BEGIN:VCALENDAR
VERSION:2.0
PRODID:-//Il Diario del Lavoro - ECPv6.15.11//NONSGML v1.0//EN
CALSCALE:GREGORIAN
METHOD:PUBLISH
X-ORIGINAL-URL:https://www.ildiariodellavoro.it
X-WR-CALDESC:Eventi per Il Diario del Lavoro
REFRESH-INTERVAL;VALUE=DURATION:PT1H
X-Robots-Tag:noindex
X-PUBLISHED-TTL:PT1H
BEGIN:VTIMEZONE
TZID:Europe/Rome
BEGIN:DAYLIGHT
TZOFFSETFROM:+0100
TZOFFSETTO:+0200
TZNAME:CEST
DTSTART:20230326T010000
END:DAYLIGHT
BEGIN:STANDARD
TZOFFSETFROM:+0200
TZOFFSETTO:+0100
TZNAME:CET
DTSTART:20231029T010000
END:STANDARD
BEGIN:DAYLIGHT
TZOFFSETFROM:+0100
TZOFFSETTO:+0200
TZNAME:CEST
DTSTART:20240331T010000
END:DAYLIGHT
BEGIN:STANDARD
TZOFFSETFROM:+0200
TZOFFSETTO:+0100
TZNAME:CET
DTSTART:20241027T010000
END:STANDARD
BEGIN:DAYLIGHT
TZOFFSETFROM:+0100
TZOFFSETTO:+0200
TZNAME:CEST
DTSTART:20250330T010000
END:DAYLIGHT
BEGIN:STANDARD
TZOFFSETFROM:+0200
TZOFFSETTO:+0100
TZNAME:CET
DTSTART:20251026T010000
END:STANDARD
END:VTIMEZONE
BEGIN:VEVENT
DTSTART;TZID=Europe/Rome:20240625T093000
DTEND;TZID=Europe/Rome:20240625T170000
DTSTAMP:20260424T212625
CREATED:20240619T110156Z
LAST-MODIFIED:20240619T110156Z
UID:10000120-1719307800-1719334800@www.ildiariodellavoro.it
SUMMARY:PRIMO INCONTRO NAZIONALE COMITATI AZIENDALI EUROPEI CGIL
DESCRIPTION:PRIMO INCONTRO NAZIONALE COMITATI AZIENDALI EUROPEI CGIL \n 25 giugno 2024 – presso la sala Di Vittorio della Cdlm Milano – Corso di Porta Vittoria\, 43 – Milano – ore 9.30 \nLa segretaria confederale della Cgil Francesca Re David interverrà al primo incontro nazionale dei Comitati Aziendali Europei Cgil. Un’occasione di incontro di quanti si occupano dei Comitati Aziendali Europei (componenti di CAE\, SE\, comitati ristretti\, funzionari di categoria e confederali\, formatori)\, per attivare o rafforzare la relazione che tra di loro intercorre all’interno della Cgil\, migliorare la comunicazione e il trasferimento delle buone e cattive pratiche\, condividere obiettivi e risultati da conseguire\, stimolare sinergie.
URL:https://www.ildiariodellavoro.it/evento/primo-incontro-nazionale-comitati-aziendali-europei-cgil/
CATEGORIES:Incontro
ATTACH;FMTTYPE=image/webp:https://www.ildiariodellavoro.it/wp-content/uploads/2024/06/volantinocae25giu24_page-0001-jpg.webp
END:VEVENT
BEGIN:VEVENT
DTSTART;TZID=Europe/Rome:20240625T103000
DTEND;TZID=Europe/Rome:20240625T170000
DTSTAMP:20260424T212625
CREATED:20240624T153627Z
LAST-MODIFIED:20240624T153627Z
UID:10000130-1719311400-1719334800@www.ildiariodellavoro.it
SUMMARY:E’ TEMPO DI AUSER. 35 ANNI DI COMUNITA’\, GENTILEZZA\, PASSIONE
DESCRIPTION:E’ TEMPO DI AUSER. 35 ANNI DI COMUNITA’\, GENTILEZZA\, PASSIONE \n25 giugno 2024 – presso il Centro Congressi Frentani-  in via dei Frentani n.4 – Roma -ore 10.30\n\nIl segretario generale della Cgil Maurizio Landini interverrà all’iniziativa ‘È tempo di Auser. 35 anni di comunità\, gentilezza\, passione’. \n 
URL:https://www.ildiariodellavoro.it/evento/e-tempo-di-auser-35-anni-di-comunita-gentilezza-passione/
CATEGORIES:Iniziativa
ATTACH;FMTTYPE=image/webp:https://www.ildiariodellavoro.it/wp-content/uploads/2024/06/a3.webp
END:VEVENT
END:VCALENDAR