BEGIN:VCALENDAR
VERSION:2.0
PRODID:-//Il Diario del Lavoro - ECPv6.15.11//NONSGML v1.0//EN
CALSCALE:GREGORIAN
METHOD:PUBLISH
X-ORIGINAL-URL:https://www.ildiariodellavoro.it
X-WR-CALDESC:Eventi per Il Diario del Lavoro
REFRESH-INTERVAL;VALUE=DURATION:PT1H
X-Robots-Tag:noindex
X-PUBLISHED-TTL:PT1H
BEGIN:VTIMEZONE
TZID:Europe/Rome
BEGIN:DAYLIGHT
TZOFFSETFROM:+0100
TZOFFSETTO:+0200
TZNAME:CEST
DTSTART:20240331T010000
END:DAYLIGHT
BEGIN:STANDARD
TZOFFSETFROM:+0200
TZOFFSETTO:+0100
TZNAME:CET
DTSTART:20241027T010000
END:STANDARD
BEGIN:DAYLIGHT
TZOFFSETFROM:+0100
TZOFFSETTO:+0200
TZNAME:CEST
DTSTART:20250330T010000
END:DAYLIGHT
BEGIN:STANDARD
TZOFFSETFROM:+0200
TZOFFSETTO:+0100
TZNAME:CET
DTSTART:20251026T010000
END:STANDARD
BEGIN:DAYLIGHT
TZOFFSETFROM:+0100
TZOFFSETTO:+0200
TZNAME:CEST
DTSTART:20260329T010000
END:DAYLIGHT
BEGIN:STANDARD
TZOFFSETFROM:+0200
TZOFFSETTO:+0100
TZNAME:CET
DTSTART:20261025T010000
END:STANDARD
END:VTIMEZONE
BEGIN:VEVENT
DTSTART;TZID=Europe/Rome:20251015T093000
DTEND;TZID=Europe/Rome:20251015T093000
DTSTAMP:20260423T210154
CREATED:20251010T143916Z
LAST-MODIFIED:20251010T143926Z
UID:10000866-1760520600-1760520600@www.ildiariodellavoro.it
SUMMARY:ASSOCIAZIONISMO DATORIALE E ORGANIZZAZIONI DEI LAVORATORI
DESCRIPTION:ASSOCIAZIONISMO DATORIALE E ORGANIZZAZIONI DEI LAVORATORI: DINAMICHE E DIFFUSIONE ALLA LUCE DELLE INDAGINI INAPP \n15 ottobre 2025 – Inapp – Auditorium – Corso d’Italia\, 34 – ore 9\,30 – Roma
URL:https://www.ildiariodellavoro.it/evento/associazionismo-datoriale-e-organizzazioni-dei-lavoratori/
CATEGORIES:Seminario
ATTACH;FMTTYPE=image/jpeg:https://www.ildiariodellavoro.it/wp-content/uploads/2025/10/INAPP_Programma_15ott25_2_pages-to-jpg-0001.jpg
END:VEVENT
BEGIN:VEVENT
DTSTART;TZID=Europe/Rome:20251015T103000
DTEND;TZID=Europe/Rome:20251015T103000
DTSTAMP:20260423T210154
CREATED:20251013T132514Z
LAST-MODIFIED:20251013T132527Z
UID:10000869-1760524200-1760524200@www.ildiariodellavoro.it
SUMMARY:“SOSTIENE LA CULTURA. CONSUMI CULTURALI E LEVA FISCALE: VERSO UNA PROPOSTA DI DETRAZIONE”
DESCRIPTION:“SOSTIENE LA CULTURA. CONSUMI CULTURALI E LEVA FISCALE: VERSO UNA PROPOSTA DI DETRAZIONE” \n15 ottobre 2025 – presso la sede nazionale di Confcommercio (Piazza G. G. Belli 2 – Ore 10\,30 – Roma \nGiornalisti e operatori dell’informazione sono invitati all’incontro “Sostiene la Cultura. Consumi culturali e leva fiscale: verso una proposta di detrazione”\, promosso da Impresa Cultura Italia – Confcommercio. \nL’iniziativa pone al centro la proposta di introdurre una detrazione fiscale sulle spese culturali\, con particolare attenzione all’acquisto di libri – compresi i testi scolastici – e ai biglietti per spettacoli dal vivo. Una misura che mira a rendere la cultura un bene accessibile e parte integrante del welfare familiare. \nDopo i saluti istituzionali di Donatella Prampolini – Vicepresidente di Confcommercio con incarico alle Politiche del fisco e di bilancio\, si confronteranno al tavolo: \nPaolo Ambrosini – Vicepresidente Impresa Cultura Italia e Presidente ALI-Confcommercio; \nDomenico Barbuto –Segretario Generale AGIS; \nAdriano Bordignon – Presidente del Forum Nazionale delle Associazioni Familiari. \nI lavori saranno moderati da Giovanni Parente  – (Il Sole 24 Ore). \nInterverranno inoltre:\nOn. Federico Mollicone – Presidente della VII Commissione della Camera\, e Avv. Francesca Scatto – Presidente della VI Commissione del Consiglio Regionale Veneto. \nAd illustrare\, sotto il profilo tecnico-giuridico\, la proposta sarà l’Avv. Gabriele Sepio – partner dello studio e-IUS Tax&Legal\, che ha collaborato con Impresa Cultura Italia nella definizione e nell’elaborazione della proposta di detrazione fiscale. \nLe conclusioni saranno affidate a Carlo Fontana – Presidente di Impresa Cultura Italia–Confcommercio.
URL:https://www.ildiariodellavoro.it/evento/sostiene-la-cultura-consumi-culturali-e-leva-fiscale-verso-una-proposta-di-detrazione/
CATEGORIES:Convegno
END:VEVENT
BEGIN:VEVENT
DTSTART;TZID=Europe/Rome:20251015T173000
DTEND;TZID=Europe/Rome:20251015T173000
DTSTAMP:20260423T210154
CREATED:20251014T135833Z
LAST-MODIFIED:20251014T135902Z
UID:10000879-1760549400-1760549400@www.ildiariodellavoro.it
SUMMARY:FIOM CGIL VERONA PER IL FUTURO DELL’INDUSTRIA: PRESENTAZIONE DEL LIBRO "TORNARE ALLA PIANIFICAZIONE"
DESCRIPTION:FIOM CGIL VERONA PER IL FUTURO DELL’INDUSTRIA: PRESENTAZIONE DEL LIBRO “TORNARE ALLA PIANIFICAZIONE” \n15 ottobre 2025 – presso la Sala ATER\, in Piazza Pozza 1/c – ore 17\,30 – Verona \nLa FIOM CGIL di Verona invita alla presentazione del libro “Tornare alla Pianificazione. Politiche industriali dopo la globalizzazione”\, un’analisi critica sulle attuali strategie economiche e sulla necessità di un nuovo modello di sviluppo. \nIl volume\, curato da Matteo Gaddi e altri autori (Edizioni Punto Rosso)\, affronta il ritorno delle politiche industriali come necessità\, dopo decenni dominati dall’ideologia del mercato autoregolato. Gli autori argomentano che le crisi ricorrenti\, la precarizzazione e le tensioni geopolitiche evidenziano come i meccanismi di mercato non garantiscano uno sviluppo equilibrato. Nel testo si analizzano nel dettaglio le recenti iniziative della Commissione Europea\, mettendone in luce i limiti strutturali\, e propone la pianificazione come strumento per rimettere al centro il lavoro\, l’ambiente e l’interesse collettivo\, sottraendo lo sviluppo industriale alla sola logica del profitto. \nParteciperanno alla discussione Matteo Gaddi – autore del libro e membro del Centro Studi FIOM CGIL nazionale\, Michele Bertucco – Assessore al Lavoro del Comune di Verona\, Marco De Pasquale – Segretario regionale di Sinistra Italiana e Antonio Silvestri – Segretario Generale della FIOM CGIL del Veneto. L’evento sarà coordinato dal giornalista Luca Fiorin. \nLa FIOM CGIL Verona invita la stampa\, i lavoratori e le lavoratrici\, le aziende e tutta la cittadinanza a partecipare a questo momento di confronto fondamentale per tracciare un percorso alternativo per il futuro economico e sociale del territorio e del Paese.
URL:https://www.ildiariodellavoro.it/evento/fiom-cgil-verona-per-il-futuro-dellindustria-presentazione-del-libro-tornare-alla-pianificazione/
CATEGORIES:Presentazione Libro
END:VEVENT
END:VCALENDAR