BEGIN:VCALENDAR
VERSION:2.0
PRODID:-//Il Diario del Lavoro - ECPv6.15.11//NONSGML v1.0//EN
CALSCALE:GREGORIAN
METHOD:PUBLISH
X-ORIGINAL-URL:https://www.ildiariodellavoro.it
X-WR-CALDESC:Eventi per Il Diario del Lavoro
REFRESH-INTERVAL;VALUE=DURATION:PT1H
X-Robots-Tag:noindex
X-PUBLISHED-TTL:PT1H
BEGIN:VTIMEZONE
TZID:Europe/Rome
BEGIN:DAYLIGHT
TZOFFSETFROM:+0100
TZOFFSETTO:+0200
TZNAME:CEST
DTSTART:20240331T010000
END:DAYLIGHT
BEGIN:STANDARD
TZOFFSETFROM:+0200
TZOFFSETTO:+0100
TZNAME:CET
DTSTART:20241027T010000
END:STANDARD
BEGIN:DAYLIGHT
TZOFFSETFROM:+0100
TZOFFSETTO:+0200
TZNAME:CEST
DTSTART:20250330T010000
END:DAYLIGHT
BEGIN:STANDARD
TZOFFSETFROM:+0200
TZOFFSETTO:+0100
TZNAME:CET
DTSTART:20251026T010000
END:STANDARD
BEGIN:DAYLIGHT
TZOFFSETFROM:+0100
TZOFFSETTO:+0200
TZNAME:CEST
DTSTART:20260329T010000
END:DAYLIGHT
BEGIN:STANDARD
TZOFFSETFROM:+0200
TZOFFSETTO:+0100
TZNAME:CET
DTSTART:20261025T010000
END:STANDARD
END:VTIMEZONE
BEGIN:VEVENT
DTSTART;TZID=Europe/Rome:20251021T090000
DTEND;TZID=Europe/Rome:20251021T090000
DTSTAMP:20260424T044724
CREATED:20251021T074725Z
LAST-MODIFIED:20251021T084534Z
UID:10000895-1761037200-1761037200@www.ildiariodellavoro.it
SUMMARY:AREE INTERNE\, NUOVO PARADIGMA DI SVILUPPO: UN  MONDO “NON” A PARTE
DESCRIPTION:AREE INTERNE\, NUOVO PARADIGMA DI SVILUPPO: UN  MONDO “NON” A PARTE \n28 ottobre 2025 –   CNEL – Plenaria Marco Biagi – Viale David Lubin 2 – ore 9\,00 – Roma \nProgramma \n8.30 – Registrazione dei partecipanti \n9.00 – Saluti istituzionali e apertura dei lavori \nRenato Brunetta – Presidente CNEL \nClaudio Risso – Vicepresidente CNEL e coordinatore del gruppo di lavoro \nRigenerazione e ripopolamento delle aree territoriali marginali\nMassimo Giuntoli – Consigliere CNEL e coordinatore del gruppo di lavoro \nRigenerazione e ripopolamento delle aree territoriali marginali \n9.30  – Coffee break \n10.00 –  Avvio dei tavoli di lavoro  \nTavolo 1 – Sviluppo economico e occupazione; innovazione\, digitalizzazione e Intelligenza Artificiale  \nStimolare la crescita dell’economia locale promuovendo imprese sostenibili e nuove opportunità di lavoro. Potenziare l’innovazione e la digitalizzazione della PA e nelle imprese.  \nCoordinatore: Consigliere CNEL Alberto Marenghi – Confindustria  \nTavolo 2 – Agricoltura\, sostenibilità\, urbanistica\, infrastrutture\, mobilità e turismo \nFavorire pratiche agricole sostenibili; valorizzare il patrimonio ambientale e promuovere una pianificazione urbanistica integrata; migliorare le infrastrutture proponendo soluzioni innovative. \nCoordinatore: Alessandro Anselmi – CISL \nTavolo 3 – Servizi sociali\, qualità della vita\, istruzione e formazione Potenziare servizi sanitari e sociali; potenziare l’istruzione\, la formazione continua\, favorire l’accesso e la qualità dei percorsi formativi. \nCoordinatore: Consigliere CNEL Giovanni Di Cesare – CGIL  \nTavolo 4 – Partecipazione e governance locale  \nFavorire la partecipazione civica dei cittadini e dei giovani\, rafforzando la comunicazione tra cittadini e istituzioni; promuovere pratiche di governance locale innovative e inclusive.  \nCoordinatore: Consigliere CNEL Paolo Pirani – UIL \n13.00 Light lunch \n14.00 Sessione Plenaria: Intervento dei coordinatori dei quattro tavoli di lavoro\n15.00 Conclusioni  \nClaudio Risso – Vicepresidente CNEL\nMassimo Giuntoli – Consigliere CNEL 
URL:https://www.ildiariodellavoro.it/evento/aree-interne-nuovo-paradigma-di-sviluppo-un-ondo-non-a-parte/
CATEGORIES:Evento
END:VEVENT
BEGIN:VEVENT
DTSTART;TZID=Europe/Rome:20251021T093000
DTEND;TZID=Europe/Rome:20251021T130000
DTSTAMP:20260424T044724
CREATED:20251013T153956Z
LAST-MODIFIED:20251013T153956Z
UID:10000872-1761039000-1761051600@www.ildiariodellavoro.it
SUMMARY:GIORNATA DELLA SALUTE E SICUREZZA SUL LAVORO
DESCRIPTION:GIORNATA DELLA SALUTE E SICUREZZA SUL LAVORO \n21 ottobre 2025 – Auditorium Inail Antonio Maglio – Piazzale G. Pastore – ore 9\,30-ore 13\,00 – Roma \nsarà visibile in Live Streaming sul portale Inail dalle ore 10\,00 \n9.30 Registrazione dei partecipanti \n10.00 Saluti istituzionali Fabrizio D’Ascenzo – Presidente Inail \n10.15 Introduce e modera Marcello Fiori – Direttore Generale Inail \n10.30 Interventi Guglielmo Loy – Presidente del Consiglio di indirizzo e vigilanza Inail\nDanilo Papa – Direttore dell’Ispettorato Nazionale del Lavoro\nAntonio Bandiera – Comandante del Comando dei Carabinieri per la tutela del lavoro\nMarco Giunio De Sanctis – Presidente del Comitato Italiano Paralimpico\n\n11.15 Testimonianza di un atleta paralimpico \n\n11.30 Testimonianza di una impresa destinataria di finanziamento ISI \n\n11.45 Presentazione della III Edizione del Concorso “Salute e Sicurezza…Insieme!”\nGennaro Gaddi – Direttore Generale per la Salute e la sicurezza nei luoghi di lavoro e per le politiche assicurative\, Ministero del Lavoro e delle Politiche Sociali\n\n12.00 Conclusioni Marina Calderone – Ministro del Lavoro e delle Politiche Sociali \n12.30 Presentazione di dispositivi innovativi della ricerca Inail Visita dell’unità mobile attrezzata – Progetto Inail “SI.IN.PRE.SA”
URL:https://www.ildiariodellavoro.it/evento/giornata-della-salute-e-sicurezza-sul-lavoro/
CATEGORIES:Evento
END:VEVENT
BEGIN:VEVENT
DTSTART;TZID=Europe/Rome:20251021T110000
DTEND;TZID=Europe/Rome:20251021T110000
DTSTAMP:20260424T044724
CREATED:20251017T094904Z
LAST-MODIFIED:20251017T094913Z
UID:10000885-1761044400-1761044400@www.ildiariodellavoro.it
SUMMARY:STATI GENERALI SALUTE E SICUREZZA SUL LAVORO
DESCRIPTION:STATI GENERALI SALUTE E SICUREZZA SUL LAVORO \n21 ottobre 2025 – presso la Sala della Lupa – Palazzo Montecitorio – ore 11.00 – Roma \nIl segretario generale della Cgil Maurizio Landini nell’ambito degli Stati generali sulla salute e sicurezza sul lavoro interverrà alla tavola rotonda “Salute e sicurezza sul lavoro: analisi e proposte delle parti sociali”. Modera Giampiero Marrazzo\, Conduttore e Giornalista\, RAI 3. Intervengono:\nMaurizio Landini\, Segretario generale CGIL; Mattia Pirulli\, Segretario confederale CISL; Pierpaolo Bombardieri\, Segretario generale UIL; Francesco Paolo Capone\, Segretario generale UGL; Guido Lutrario\, Segretario nazionale confederale USB; Pierangelo Albini\, Direttore lavoro Confindustria; Stefano Crestini\, Presidente Confartigianato Edilizia; Gino Sabatini\, Vicepresidente CNA; Cristiano Fini\, Presidente CIA; Sandro Gambuzza\, Vicepresidente Confagricoltura; Roberto Magrini\, Capo Area Lavoro Coldiretti; Renato Della Bella\, Vicepresidente Confimi.
URL:https://www.ildiariodellavoro.it/evento/stati-generali-salute-e-sicurezza-sul-lavoro/
CATEGORIES:Tavola Rotonda
ATTACH;FMTTYPE=image/webp:https://www.ildiariodellavoro.it/wp-content/uploads/2025/10/immagine-2025-10-17-105740-jpg.webp
END:VEVENT
BEGIN:VEVENT
DTSTART;TZID=Europe/Rome:20251021T150000
DTEND;TZID=Europe/Rome:20251021T150000
DTSTAMP:20260424T044724
CREATED:20251017T143443Z
LAST-MODIFIED:20251017T143529Z
UID:10000887-1761058800-1761058800@www.ildiariodellavoro.it
SUMMARY:ANDAMENTI E PROSPETTIVE DEI MERCATI ITALIANO ED EUROPEO DEL GAS ALL’INGROSSO
DESCRIPTION:ANDAMENTI E PROSPETTIVE DEI MERCATI ITALIANO ED EUROPEO DEL GAS ALL’INGROSSO \n21 ottobre 2025 – Arel – Piazza Sant’Andrea della Valle\, 6 – ore 15\,00 – Roma – collegamento on line – piattaforma Zoom \nPer l’Unione europea e per l’Italia la possibilità di disporre con continuità di gas naturale a prezzi competitivi riveste una importanza vitale. Con quest’ottica\, il seminario ha il fine di illustrare e di commentare i recenti andamenti del settore del gas in avvio dell’anno termico 2025-2026 e\, in particolare\, di valutare in che misura alcuni eventi e instabilità hanno impattato e potranno impattare sulle dinamiche del medesimo settore. \nENRICO LETTA – Arel – in collegamento \nAPRE I LAVORI:\nALBERTO BIANCARDI – Arel \nRELAZIONE\nMARTA DEL BUONO\, FABIO ROCCON  – ICIS \n 
URL:https://www.ildiariodellavoro.it/evento/andamenti-e-prospettive-dei-mercati-italiano-ed-europeo-del-gas-allingrosso/
CATEGORIES:Seminario
END:VEVENT
BEGIN:VEVENT
DTSTART;TZID=Europe/Rome:20251021T160000
DTEND;TZID=Europe/Rome:20251021T160000
DTSTAMP:20260424T044724
CREATED:20251020T092734Z
LAST-MODIFIED:20251020T092740Z
UID:10000891-1761062400-1761062400@www.ildiariodellavoro.it
SUMMARY:PRESENTAZIONE DEL VOLUME “SALUTE E SICUREZZA SUL LAVORO – QUALI SPAZI PER LA CONTRATTAZIONE?”
DESCRIPTION:PRESENTAZIONE DEL VOLUME\n“SALUTE E SICUREZZA SUL LAVORO – QUALI SPAZI PER LA CONTRATTAZIONE?” \n21 ottobre 2025 – Centro Convegni – Bruno Buozzi – Via Lucullo\, 6 – Ore 16\,00 – Roma \nDiscutono:\nGli autori: \nPaolo Pascucci – autore\, Professore ordinario di Diritto del lavoro presso il Dipartimento di Giurisprudenza dell’Università di Urbino “Carlo Bo” \nIvana Veronese – autrice – Segretaria Confederale UIL \ncon la partecipazione di PierPaolo Bombardieri – Segretario Generale Uil.
URL:https://www.ildiariodellavoro.it/evento/presentazione-del-volume-salute-e-sicurezza-sul-lavoro-quali-spazi-per-la-contrattazione/
CATEGORIES:Presentazione Libro
END:VEVENT
END:VCALENDAR