BEGIN:VCALENDAR
VERSION:2.0
PRODID:-//Il Diario del Lavoro - ECPv6.15.11//NONSGML v1.0//EN
CALSCALE:GREGORIAN
METHOD:PUBLISH
X-ORIGINAL-URL:https://www.ildiariodellavoro.it
X-WR-CALDESC:Eventi per Il Diario del Lavoro
REFRESH-INTERVAL;VALUE=DURATION:PT1H
X-Robots-Tag:noindex
X-PUBLISHED-TTL:PT1H
BEGIN:VTIMEZONE
TZID:Europe/Rome
BEGIN:DAYLIGHT
TZOFFSETFROM:+0100
TZOFFSETTO:+0200
TZNAME:CEST
DTSTART:20240331T010000
END:DAYLIGHT
BEGIN:STANDARD
TZOFFSETFROM:+0200
TZOFFSETTO:+0100
TZNAME:CET
DTSTART:20241027T010000
END:STANDARD
BEGIN:DAYLIGHT
TZOFFSETFROM:+0100
TZOFFSETTO:+0200
TZNAME:CEST
DTSTART:20250330T010000
END:DAYLIGHT
BEGIN:STANDARD
TZOFFSETFROM:+0200
TZOFFSETTO:+0100
TZNAME:CET
DTSTART:20251026T010000
END:STANDARD
BEGIN:DAYLIGHT
TZOFFSETFROM:+0100
TZOFFSETTO:+0200
TZNAME:CEST
DTSTART:20260329T010000
END:DAYLIGHT
BEGIN:STANDARD
TZOFFSETFROM:+0200
TZOFFSETTO:+0100
TZNAME:CET
DTSTART:20261025T010000
END:STANDARD
END:VTIMEZONE
BEGIN:VEVENT
DTSTART;TZID=Europe/Rome:20251022T100000
DTEND;TZID=Europe/Rome:20251022T100000
DTSTAMP:20260424T061424
CREATED:20251016T090954Z
LAST-MODIFIED:20251016T091029Z
UID:10000882-1761127200-1761127200@www.ildiariodellavoro.it
SUMMARY:PENSIONI E FISCO. SCENARI DI TRASFORMAZIONE NELLA SOCIETA’ CHE CAMBIA
DESCRIPTION:PENSIONI E FISCO. SCENARI DI TRASFORMAZIONE NELLA SOCIETA’ CHE CAMBIA \n22 ottobre 2025 – webinar – ore 10\,00 \nLa segretaria confederale della Cgil Lara Ghiglione nell’ambito del webinar promosso dallo Spi Cgil su ‘Pensioni e Fisco. Scenari di trasformazione nella società che cambia’ la sessione dedicata alle ‘Pensioni\, attualità e prospettive’.
URL:https://www.ildiariodellavoro.it/evento/pensioni-e-fisco-scenari-di-trasformazione-nella-societa-che-cambia/
CATEGORIES:Webinar
ATTACH;FMTTYPE=image/webp:https://www.ildiariodellavoro.it/wp-content/uploads/2025/10/programma_webinar_22-23_ottobre_page-0001-jpg.webp
END:VEVENT
BEGIN:VEVENT
DTSTART;TZID=Europe/Rome:20251022T103000
DTEND;TZID=Europe/Rome:20251022T103000
DTSTAMP:20260424T061424
CREATED:20251014T081545Z
LAST-MODIFIED:20251014T081550Z
UID:10000875-1761129000-1761129000@www.ildiariodellavoro.it
SUMMARY:PRESENTAZIONE ANNUALE ITALMERCATI RETE DI IMPRESE – ISMEA
DESCRIPTION:PRESENTAZIONE ANNUALE ITALMERCATI RETE DI IMPRESE – ISMEA\n\n22 ottobre 2025 – Cnel  – Plenaria Marco Biagi – Ore 10\,30 – Roma \nIl 22 ottobre 2025 a partire dalle 10:30\, il CNEL ospiterà presso la Plenaria Marco Biagi la presentazione del Rapporto “Rigenerare il fresco: i mercati all’ingrosso tra innovazione e sfida dei consumi” realizzato da Italmercati Rete di Imprese e ISMEA.
URL:https://www.ildiariodellavoro.it/evento/presentazione-annuale-italmercati-rete-di-imprese-ismea/
CATEGORIES:Evento
END:VEVENT
BEGIN:VEVENT
DTSTART;TZID=Europe/Rome:20251022T140000
DTEND;TZID=Europe/Rome:20251022T140000
DTSTAMP:20260424T061424
CREATED:20251017T133723Z
LAST-MODIFIED:20251017T133815Z
UID:10000886-1761141600-1761141600@www.ildiariodellavoro.it
SUMMARY:INDUSTRIA IN CRISI\, GOVERNO ASSENTE
DESCRIPTION:INDUSTRIA IN CRISI\, GOVERNO ASSENTE \n22 ottobre 2025 – Cgil – Sala Santi – Corso d’Italia\, 25 – Ore 14\,00 – Roma
URL:https://www.ildiariodellavoro.it/evento/industria-in-crisi-governo-assente/
CATEGORIES:Iniziativa
ATTACH;FMTTYPE=image/jpeg:https://www.ildiariodellavoro.it/wp-content/uploads/2025/10/Locandina_22ott2025.jpg
END:VEVENT
BEGIN:VEVENT
DTSTART;TZID=Europe/Rome:20251022T170000
DTEND;TZID=Europe/Rome:20251022T170000
DTSTAMP:20260424T061424
CREATED:20251017T074048Z
LAST-MODIFIED:20251017T074114Z
UID:10000884-1761152400-1761152400@www.ildiariodellavoro.it
SUMMARY:IL LAVORO E LA DEMOCRAZIA ECONOMICA NELLE ORGANIZZAZIONI DEL CAPITALISMO
DESCRIPTION:IL LAVORO E LA DEMOCRAZIA ECONOMICA NELLE ORGANIZZAZIONI DEL CAPITALISMO \n22 ottobre 2025 – presso l’Università Federico II – edificio centrale – Aula Pessina – C.so Umberto I\, 40 – ore 17.00 – Napoli – verrà trasmessa in diretta streaming su Collettiva.it \nIl segretario confederale della Cgil Christian Ferrari interverrà alla tavola rotonda nel corso della seconda parte dell’iniziativa promossa dalla Rivista Giuridica del Lavoro e dedicata a Massimo D’Antona ‘Il Lavoro e la Democrazia economica nelle organizzazioni del capitalismo’.
URL:https://www.ildiariodellavoro.it/evento/il-lavoro-e-la-democrazia-economica-nelle-organizzazioni-del-capitalismo/
CATEGORIES:Tavola Rotonda
ATTACH;FMTTYPE=image/webp:https://www.ildiariodellavoro.it/wp-content/uploads/2025/10/immagine-2025-10-16-160941-jpg.webp
END:VEVENT
END:VCALENDAR