BEGIN:VCALENDAR
VERSION:2.0
PRODID:-//Il Diario del Lavoro - ECPv6.15.11//NONSGML v1.0//EN
CALSCALE:GREGORIAN
METHOD:PUBLISH
X-WR-CALNAME:Il Diario del Lavoro
X-ORIGINAL-URL:https://www.ildiariodellavoro.it
X-WR-CALDESC:Eventi per Il Diario del Lavoro
REFRESH-INTERVAL;VALUE=DURATION:PT1H
X-Robots-Tag:noindex
X-PUBLISHED-TTL:PT1H
BEGIN:VTIMEZONE
TZID:Europe/Rome
BEGIN:DAYLIGHT
TZOFFSETFROM:+0100
TZOFFSETTO:+0200
TZNAME:CEST
DTSTART:20240331T010000
END:DAYLIGHT
BEGIN:STANDARD
TZOFFSETFROM:+0200
TZOFFSETTO:+0100
TZNAME:CET
DTSTART:20241027T010000
END:STANDARD
BEGIN:DAYLIGHT
TZOFFSETFROM:+0100
TZOFFSETTO:+0200
TZNAME:CEST
DTSTART:20250330T010000
END:DAYLIGHT
BEGIN:STANDARD
TZOFFSETFROM:+0200
TZOFFSETTO:+0100
TZNAME:CET
DTSTART:20251026T010000
END:STANDARD
BEGIN:DAYLIGHT
TZOFFSETFROM:+0100
TZOFFSETTO:+0200
TZNAME:CEST
DTSTART:20260329T010000
END:DAYLIGHT
BEGIN:STANDARD
TZOFFSETFROM:+0200
TZOFFSETTO:+0100
TZNAME:CET
DTSTART:20261025T010000
END:STANDARD
END:VTIMEZONE
BEGIN:VEVENT
DTSTART;TZID=Europe/Rome:20251023T093000
DTEND;TZID=Europe/Rome:20251025T180000
DTSTAMP:20260424T085655
CREATED:20251014T123325Z
LAST-MODIFIED:20251014T123325Z
UID:10000878-1761211800-1761415200@www.ildiariodellavoro.it
SUMMARY:LA BILATERALITA’ AL CENTRO DI SAIE 2025
DESCRIPTION:LA BILATERALITA’ AL CENTRO DI SAIE 2025 \n23-25 ottobre 2025 – Bari \nDal 23 al 25 ottobre 2025\, il sistema bilaterale delle costruzioni sarà protagonista al SAIE di Bari\, la fiera di riferimento per l’edilizia italiana\, con un ricco programma di eventi promossi da CNCE – Commissione Nazionale delle Casse Edili e FORMEDIL – Ente nazionale per la formazione e l’addestramento professionale nell’edilizia. \nTre giornate di confronto\, esperienze e dibattito che metteranno al centro le persone\, la sicurezza\, la formazione e il welfare\, pilastri della bilateralità nel settore e dove si parlerà anche di progetti europei e relazioni internazionali.
URL:https://www.ildiariodellavoro.it/evento/la-bilateralita-al-centro-di-saie-2025/
CATEGORIES:Evento
ATTACH;FMTTYPE=image/jpeg:https://www.ildiariodellavoro.it/wp-content/uploads/2025/10/Programma-eventi-CNCE-FORMEDIL-SAIE-2025-scaled.jpg
END:VEVENT
BEGIN:VEVENT
DTSTART;TZID=Europe/Rome:20251024T090000
DTEND;TZID=Europe/Rome:20251024T090000
DTSTAMP:20260424T085655
CREATED:20251020T130733Z
LAST-MODIFIED:20251020T130740Z
UID:10000892-1761296400-1761296400@www.ildiariodellavoro.it
SUMMARY:CONFINI DEL LAVORO
DESCRIPTION:CONFINI DEL LAVORO \n24 ottobre 2025 – Hotel Ristorante Turandot Magnolia – Via Mazzini\, 1 – Ore 9\,00 – Grisignano di Zocco (Vi)
URL:https://www.ildiariodellavoro.it/evento/confini-del-lavoro/
CATEGORIES:Evento
ATTACH;FMTTYPE=image/jpeg:https://www.ildiariodellavoro.it/wp-content/uploads/2025/10/LOCANDINA_Filca_Sicurezza_pages-to-jpg-0001.jpg
END:VEVENT
BEGIN:VEVENT
DTSTART;TZID=Europe/Rome:20251024T090000
DTEND;TZID=Europe/Rome:20251024T130000
DTSTAMP:20260424T085655
CREATED:20251020T092545Z
LAST-MODIFIED:20251020T092553Z
UID:10000890-1761296400-1761310800@www.ildiariodellavoro.it
SUMMARY:IL DATORE DI LAVORO DALLA NORMA ALLA REALTA’
DESCRIPTION:IL DATORE DI LAVORO DALLA NORMA ALLA REALTA’ \n24 ottobre 2025 – Sala Premstaller Centro – Piani  – Rencio Via Dolomiti\, 14 – dalle ore 9\,00 alle ore 13\,00 – Bolzano \nNELL’AMBITO DELLA SETTIMANA EUROPEA PER LA SICUREZZA\nSeminario \nIVANA VERONESE – Segretaria confederale Uil\nMAURO BALDESSARRI – Segretario generale Uil Sgk\nLIANE CITTADINI – ASPP Lavarent\nLUCA DEL VISCOVO – RLS Suanfarma\nFRANCESCO MONGIOI’ – Segretario confederale Uil Sgk.
URL:https://www.ildiariodellavoro.it/evento/il-datore-di-lavoro-dalla-norma-alla-realta/
CATEGORIES:Seminario
END:VEVENT
BEGIN:VEVENT
DTSTART;TZID=Europe/Rome:20251024T110000
DTEND;TZID=Europe/Rome:20251024T110000
DTSTAMP:20260424T085655
CREATED:20251020T152955Z
LAST-MODIFIED:20251020T153001Z
UID:10000894-1761303600-1761303600@www.ildiariodellavoro.it
SUMMARY:FESTIVAL SABIR 2025 – CONFERENZA CGIL E SOLIDAR “CONFINI E MURI: UN’EUROPA APERTA SOLO ALLO SFRUTTAMENTO?”
DESCRIPTION:FESTIVAL SABIR 2025 – CONFERENZA CGIL E SOLIDAR “CONFINI E MURI: UN’EUROPA APERTA SOLO ALLO SFRUTTAMENTO?” \n24 ottobre 2’25 – presso i Cantieri Culturali alla Zisa – ore 11.00 – Palermo \nLa segretaria confederale della Cgil Maria Grazia Gabrielli interverrà alla conferenza promossa da Cgil e Solidar ‘Confini e muri: un’Europa aperta solo allo sfruttamento?’\, nell’ambito del Festival Sabir 2025.
URL:https://www.ildiariodellavoro.it/evento/festival-sabir-2025-conferenza-cgil-e-solidar-confini-e-muri-uneuropa-aperta-solo-allo-sfruttamento/
CATEGORIES:Conferenza
ATTACH;FMTTYPE=image/webp:https://www.ildiariodellavoro.it/wp-content/uploads/2025/10/550883178_1247368054085278_2579070878993125340_n-png.webp
END:VEVENT
END:VCALENDAR