BEGIN:VCALENDAR
VERSION:2.0
PRODID:-//Il Diario del Lavoro - ECPv6.15.11//NONSGML v1.0//EN
CALSCALE:GREGORIAN
METHOD:PUBLISH
X-WR-CALNAME:Il Diario del Lavoro
X-ORIGINAL-URL:https://www.ildiariodellavoro.it
X-WR-CALDESC:Eventi per Il Diario del Lavoro
REFRESH-INTERVAL;VALUE=DURATION:PT1H
X-Robots-Tag:noindex
X-PUBLISHED-TTL:PT1H
BEGIN:VTIMEZONE
TZID:Europe/Rome
BEGIN:DAYLIGHT
TZOFFSETFROM:+0100
TZOFFSETTO:+0200
TZNAME:CEST
DTSTART:20250330T010000
END:DAYLIGHT
BEGIN:STANDARD
TZOFFSETFROM:+0200
TZOFFSETTO:+0100
TZNAME:CET
DTSTART:20251026T010000
END:STANDARD
BEGIN:DAYLIGHT
TZOFFSETFROM:+0100
TZOFFSETTO:+0200
TZNAME:CEST
DTSTART:20260329T010000
END:DAYLIGHT
BEGIN:STANDARD
TZOFFSETFROM:+0200
TZOFFSETTO:+0100
TZNAME:CET
DTSTART:20261025T010000
END:STANDARD
BEGIN:DAYLIGHT
TZOFFSETFROM:+0100
TZOFFSETTO:+0200
TZNAME:CEST
DTSTART:20270328T010000
END:DAYLIGHT
BEGIN:STANDARD
TZOFFSETFROM:+0200
TZOFFSETTO:+0100
TZNAME:CET
DTSTART:20271031T010000
END:STANDARD
END:VTIMEZONE
BEGIN:VEVENT
DTSTART;TZID=Europe/Rome:20260425T093000
DTEND;TZID=Europe/Rome:20260425T093000
DTSTAMP:20260425T012219
CREATED:20260421T144656Z
LAST-MODIFIED:20260421T144706Z
UID:10001176-1777109400-1777109400@www.ildiariodellavoro.it
SUMMARY:25 APRILE A POTENZA – I POPOLI SI PARLANO LE DEMORAZIE SI COSTRUISCONO
DESCRIPTION:25 APRILE A POTENZA – I POPOLI SI PARLANO LE DEMORAZIE SI COSTRUISCONO \n25 aprile 2026 – presso il Museo Archeologico provinciale – via Lazio – ore 9.30  Potenza \nIl segretario confederale della Cgil Giuseppe Gesmundo concluderà l’iniziativa in occasione dell’81° anniversario della Liberazione dell’Italia dal nazifascismo.
URL:https://www.ildiariodellavoro.it/evento/25-aprile-a-potenza-i-popoli-si-parlano-le-demorazie-si-costruiscono/
CATEGORIES:Iniziativa
ATTACH;FMTTYPE=image/webp:https://www.ildiariodellavoro.it/wp-content/uploads/2026/04/potenza-gesmundo-25-aprile-2026-jpg.webp
END:VEVENT
BEGIN:VEVENT
DTSTART;TZID=Europe/Rome:20260425T103000
DTEND;TZID=Europe/Rome:20260425T103000
DTSTAMP:20260425T012219
CREATED:20260417T145422Z
LAST-MODIFIED:20260417T145429Z
UID:10001169-1777113000-1777113000@www.ildiariodellavoro.it
SUMMARY:81° DELLA LIBERAZIONE DEL NAZIFASCISMO – MANIFESTAZIONE A ROMA
DESCRIPTION:81° DELLA LIBERAZIONE DEL NAZIFASCISMO – MANIFESTAZIONE A ROMA \n25 aprile 2026 – Ore 10\,30 – Roma \nIl segretario generale della Cgil Maurizio Landini parteciperà alla manifestazione per l’81° della Liberazione dal nazifascismo che si terrà a Roma sabato 25 aprile. Concentramento alle ore 10.30 in Piazza di Porta San Paolo\, arrivo del corteo a parco Schuster\, dove si terranno i comizi conclusivi.
URL:https://www.ildiariodellavoro.it/evento/81-della-liberazione-del-nazifascismo-manifestazione-a-roma/
CATEGORIES:Manifestazione
ATTACH;FMTTYPE=image/webp:https://www.ildiariodellavoro.it/wp-content/uploads/2026/04/25-aprile-2026-roma-lazio-cgil-jpg.webp
END:VEVENT
BEGIN:VEVENT
DTSTART;TZID=Europe/Rome:20260425T150000
DTEND;TZID=Europe/Rome:20260425T150000
DTSTAMP:20260425T012219
CREATED:20260421T071755Z
LAST-MODIFIED:20260421T071812Z
UID:10001174-1777129200-1777129200@www.ildiariodellavoro.it
SUMMARY:25 APRILE A PESCARA – LA COSTITUZIONE E IL DIRITTO AL FUTURO: PACE\, LAVORO E DIGNITA’ SOCIALE IN TEMPO DI GUERRA
DESCRIPTION:25 APRILE A PESCARA – LA COSTITUZIONE E IL DIRITTO AL FUTURO: PACE\, LAVORO E DIGNITA’ SOCIALE IN TEMPO DI GUERRA \n25 aprile 2026 – parco De Riseis – ore 15.00 – Pescara \nLa segretaria confederale della Cgil Daniela Barbaresi nell’ambito delle iniziative per la festa della Liberazione che si terranno a Pescara\, interverrà al dibattito “La Costituzione e il diritto al futuro: Pace\, lavoro e dignità sociale in tempo di guerra”. \n 
URL:https://www.ildiariodellavoro.it/evento/25-aprile-a-pescara-la-costituzione-e-il-diritto-al-futuro-pace-lavoro-e-dignita-sociale-in-tempo-di-guerra/
CATEGORIES:Iniziativa
ATTACH;FMTTYPE=image/webp:https://www.ildiariodellavoro.it/wp-content/uploads/2026/04/pescara-barbaresi-25-4-2026-jpg.webp
END:VEVENT
END:VCALENDAR