BEGIN:VCALENDAR
VERSION:2.0
PRODID:-//Il Diario del Lavoro - ECPv6.15.11//NONSGML v1.0//EN
CALSCALE:GREGORIAN
METHOD:PUBLISH
X-ORIGINAL-URL:https://www.ildiariodellavoro.it
X-WR-CALDESC:Eventi per Il Diario del Lavoro
REFRESH-INTERVAL;VALUE=DURATION:PT1H
X-Robots-Tag:noindex
X-PUBLISHED-TTL:PT1H
BEGIN:VTIMEZONE
TZID:Europe/Rome
BEGIN:DAYLIGHT
TZOFFSETFROM:+0100
TZOFFSETTO:+0200
TZNAME:CEST
DTSTART:20230326T010000
END:DAYLIGHT
BEGIN:STANDARD
TZOFFSETFROM:+0200
TZOFFSETTO:+0100
TZNAME:CET
DTSTART:20231029T010000
END:STANDARD
BEGIN:DAYLIGHT
TZOFFSETFROM:+0100
TZOFFSETTO:+0200
TZNAME:CEST
DTSTART:20240331T010000
END:DAYLIGHT
BEGIN:STANDARD
TZOFFSETFROM:+0200
TZOFFSETTO:+0100
TZNAME:CET
DTSTART:20241027T010000
END:STANDARD
BEGIN:DAYLIGHT
TZOFFSETFROM:+0100
TZOFFSETTO:+0200
TZNAME:CEST
DTSTART:20250330T010000
END:DAYLIGHT
BEGIN:STANDARD
TZOFFSETFROM:+0200
TZOFFSETTO:+0100
TZNAME:CET
DTSTART:20251026T010000
END:STANDARD
END:VTIMEZONE
BEGIN:VEVENT
DTSTART;TZID=Europe/Rome:20241003T140000
DTEND;TZID=Europe/Rome:20241003T140000
DTSTAMP:20260420T204532
CREATED:20240930T113623Z
LAST-MODIFIED:20240930T113651Z
UID:10000240-1727964000-1727964000@www.ildiariodellavoro.it
SUMMARY:AUDIZIONE FORMALE SU PIANO STRUTTURALE DI BILANCIO DI MEDIO TERMINE
DESCRIPTION:AUDIZIONE FORMALE SU PIANO STRUTTURALE DI BILANCIO DI MEDIO TERMINE \n3 ottobre 2024 – presso la Sala del Mappamondo della Camera dei deputati – ore 14\,00 – Roma \nE’ convocata per giovedì 3 ottobre\, presso le Commissioni riunite Bilancio di Camera e Senato\, l’audizione formale sull’esame del Piano strutturale di bilancio di medio termine. Per la Cgil sarà presente il segretario confederale Christian Ferrari.
URL:https://www.ildiariodellavoro.it/evento/audizione-formale-su-piano-strutturale-di-bilancio-di-medio-termine/
CATEGORIES:Audizione
ATTACH;FMTTYPE=image/webp:https://www.ildiariodellavoro.it/wp-content/uploads/2024/09/copia-di-soldi-economia-crisi.webp
END:VEVENT
END:VCALENDAR