BEGIN:VCALENDAR
VERSION:2.0
PRODID:-//Il Diario del Lavoro - ECPv6.15.11//NONSGML v1.0//EN
CALSCALE:GREGORIAN
METHOD:PUBLISH
X-ORIGINAL-URL:https://www.ildiariodellavoro.it
X-WR-CALDESC:Eventi per Il Diario del Lavoro
REFRESH-INTERVAL;VALUE=DURATION:PT1H
X-Robots-Tag:noindex
X-PUBLISHED-TTL:PT1H
BEGIN:VTIMEZONE
TZID:Europe/Rome
BEGIN:DAYLIGHT
TZOFFSETFROM:+0100
TZOFFSETTO:+0200
TZNAME:CEST
DTSTART:20230326T010000
END:DAYLIGHT
BEGIN:STANDARD
TZOFFSETFROM:+0200
TZOFFSETTO:+0100
TZNAME:CET
DTSTART:20231029T010000
END:STANDARD
BEGIN:DAYLIGHT
TZOFFSETFROM:+0100
TZOFFSETTO:+0200
TZNAME:CEST
DTSTART:20240331T010000
END:DAYLIGHT
BEGIN:STANDARD
TZOFFSETFROM:+0200
TZOFFSETTO:+0100
TZNAME:CET
DTSTART:20241027T010000
END:STANDARD
BEGIN:DAYLIGHT
TZOFFSETFROM:+0100
TZOFFSETTO:+0200
TZNAME:CEST
DTSTART:20250330T010000
END:DAYLIGHT
BEGIN:STANDARD
TZOFFSETFROM:+0200
TZOFFSETTO:+0100
TZNAME:CET
DTSTART:20251026T010000
END:STANDARD
END:VTIMEZONE
BEGIN:VEVENT
DTSTART;TZID=Europe/Rome:20241023T143000
DTEND;TZID=Europe/Rome:20241024T193000
DTSTAMP:20260426T054329
CREATED:20241022T072243Z
LAST-MODIFIED:20241022T073117Z
UID:10000271-1729693800-1729798200@www.ildiariodellavoro.it
SUMMARY:Convegno annuale AISRI 2024 - LE RELAZIONI INDUSTRIALI NELLA “TRIPLA TRANSIZIONE”: ATTORI\, PROCESSI ED ESITI
DESCRIPTION:Convegno annuale AISRI 2024 – LE RELAZIONI INDUSTRIALI NELLA “TRIPLA TRANSIZIONE”: ATTORI\, PROCESSI ED ESITI  \n23-24 ottobre 2024 – Centro Congressi Università degli Studi di Roma «La Sapienza» – Via Salaria\, 113 – Roma \n\n23 Ottobre 14-00 – 19-30\nSaluti istituzionali:\nTito Marci – Preside della Facoltà di Scienze politiche\, Sociologia\, Comunicazione\nEmma Galli – Direttrice del Dipartimento di Scienze sociali ed economiche \nIntroduzione ai lavori:\nRoberto Pedersini – Presidente AISRI \nSessione 1 Le relazioni industriali nelle transizioni\nVenera Protopapa – (Università di Verona) Dalle corti al contratto: la complessa relazione tra strategic litigation e contrattazione collettiva nell’economia delle piattaforme\nElisa Errico\, Luisa De Vita (Università di Roma La Sapienza) Gli impatti di genere delle transizioni: quale ruolo per le relazioni industriali? Alcune riflessioni a partire da casi studio nel settore manifatturiero italiano\nGiovanni Guglielmo Crudeli (Università di Napoli Federico II) Le relazioni sindacali nella transizione tecnologica \nDiscussant:\nLuisa Corazza (Università del Molise) Mimmo Carrieri (Università di Roma La Sapienza) \nSessione 2 Le transizioni fra negoziazione e partecipazione\nMarco Betti\, Marcello Pedaci (Università di Teramo) – La difficile pratica della ‘just transition’. Un’analisi dell’azione sindacale nell’industria alimentare italiana\nPierpaolo Mosaico (Università di Roma La Sapienza);\nLaura Leonelli (Università di Milano) Negoziare la transizione ecologica in uno stabilimento del settore automotive: il caso della Marelli di Crevalcore\nLino Codara (Università di Brescia)\nFrancesca Sgobbi (Università di Lisbona) Empowering Employee Participation: New Pathways to Collaboration\nMarco Micaroni (Autostrade per l’Italia) \nMarino Masucci (FITCISL Lazio)\nGiuseppe Passacantili (Centro studi FIT-CISL Lazio)\nL’estensione dell’interesse pubblico nell’impresa sostenibile. Transizione green e digitalizzazione: la via partecipata di Autostrade per l’Italia come operatore integrato della mobilità. \nDiscussant:\nCarla Spinelli (Università di Bari) Daniele Di Nunzio (Fondazione Di Vittorio) \n24 Ottobre 9\,00 – 13\,30\nSessione 3 Nuovi e vecchi strumenti per regolare le transizioni\n \nMaria Giovannone (Università Roma Tre) Tutela dei diritti umani nei luoghi di lavoro: prospettive per la partecipazione nella direttiva europea 2024/1760\nDario Raspanti\, Giulia Cavallini\, Luigi Burroni (Università di Firenze) Regolare il lavoro che invecchia. La regolazione dell’invecchiamento della forza lavoro tramite la contrattazione collettiva in Italia e nei Paesi Bassi\nRossella Ciavarella (Università di Foggia) La formazione continua come “antidoto” alla “tripla transizione”. Un focus sulla recente contrattazione nei settori agricolo e agroalimentare. \nDiscussant:\nLucia Valente (Università di Roma La Sapienza) Iacopo Senatori (Università di Modena e Reggio Emilia) \nTavola rotonda Gli attori delle relazioni industriali nella “tripla transizione” \nGiampietro Castano – Consigliere del Ministro per le politiche industriali\, MIMIT\nMichele De Palma – Segretario Generale FIOM-CGIL\nLaura Di Raimondo – Direttrice Generale ASSTEL\nAlessandro Anselmi – Dipartimento Industria alimentare FAI-CISL\n\nModera:\nLidia Baratta – Linkiesta.it. \n  \n 
URL:https://www.ildiariodellavoro.it/evento/convegno-annuale-aisri-2024-le-relazioni-industriali-nella-tripla-transizione-attori-processi-ed-esiti/
CATEGORIES:Convegno
END:VEVENT
BEGIN:VEVENT
DTSTART;TZID=Europe/Rome:20241027T100000
DTEND;TZID=Europe/Rome:20241027T100000
DTSTAMP:20260426T054329
CREATED:20241023T133339Z
LAST-MODIFIED:20241023T133649Z
UID:10000275-1730023200-1730023200@www.ildiariodellavoro.it
SUMMARY:CONVEGNO - Assemblea nazionale NoAD
DESCRIPTION:Convegno – Assemblea nazionale NoAD \n27 ottobre 2024 – sala Millepiani – Via Nicolò Odero\, 13 – Ore 10\,00 – Roma \nIl segretario confederale della Cgil Christian Ferrari interverrà al Convegno – assemblea nazionale NoAd.
URL:https://www.ildiariodellavoro.it/evento/convegno-assemblea-nazionale-noad/
CATEGORIES:Assemblea Nazionale,Convegno
ATTACH;FMTTYPE=image/webp:https://www.ildiariodellavoro.it/wp-content/uploads/2024/10/noad-jpg.webp
END:VEVENT
END:VCALENDAR