BEGIN:VCALENDAR
VERSION:2.0
PRODID:-//Il Diario del Lavoro - ECPv6.15.11//NONSGML v1.0//EN
CALSCALE:GREGORIAN
METHOD:PUBLISH
X-WR-CALNAME:Il Diario del Lavoro
X-ORIGINAL-URL:https://www.ildiariodellavoro.it
X-WR-CALDESC:Eventi per Il Diario del Lavoro
REFRESH-INTERVAL;VALUE=DURATION:PT1H
X-Robots-Tag:noindex
X-PUBLISHED-TTL:PT1H
BEGIN:VTIMEZONE
TZID:Europe/Rome
BEGIN:DAYLIGHT
TZOFFSETFROM:+0100
TZOFFSETTO:+0200
TZNAME:CEST
DTSTART:20230326T010000
END:DAYLIGHT
BEGIN:STANDARD
TZOFFSETFROM:+0200
TZOFFSETTO:+0100
TZNAME:CET
DTSTART:20231029T010000
END:STANDARD
BEGIN:DAYLIGHT
TZOFFSETFROM:+0100
TZOFFSETTO:+0200
TZNAME:CEST
DTSTART:20240331T010000
END:DAYLIGHT
BEGIN:STANDARD
TZOFFSETFROM:+0200
TZOFFSETTO:+0100
TZNAME:CET
DTSTART:20241027T010000
END:STANDARD
BEGIN:DAYLIGHT
TZOFFSETFROM:+0100
TZOFFSETTO:+0200
TZNAME:CEST
DTSTART:20250330T010000
END:DAYLIGHT
BEGIN:STANDARD
TZOFFSETFROM:+0200
TZOFFSETTO:+0100
TZNAME:CET
DTSTART:20251026T010000
END:STANDARD
END:VTIMEZONE
BEGIN:VEVENT
DTSTART;TZID=Europe/Rome:20241204T100000
DTEND;TZID=Europe/Rome:20241204T120000
DTSTAMP:20260426T025353
CREATED:20241010T144437Z
LAST-MODIFIED:20241129T082526Z
UID:10000250-1733306400-1733313600@www.ildiariodellavoro.it
SUMMARY:RIPENSARE IL VALORE SOCIALE E LA DIMENSIONE COLLETTIVA DEL LAVORO\, OGGI
DESCRIPTION:RIPENSARE IL VALORE SOCIALE E LA DIMENSIONE COLLETTIVA DEL LAVORO\, OGGI\n\n4 dicembre 2024 – Palazzo dei Contratti e delle Manifestazioni – Sala Sestini – Via Petrarca\,10 – dalle ore 10\,00 alle ore 12\,00 – Bergamo \n  \nIntroduce e modera\nFrancesco Seghezzi\, Presidente ADAPT \nIntervengono\nRoberto Pedersini\, Ordinario di sociologia economica\, Università degli Studi di Milano\nMichele Tiraboschi\, Ordinario di diritto del lavoro\, Università di Modena e Reggio Emilia \nTavola rotonda\nDaniela Fumarola\, Segretaria generale aggiunto CISL\nMaria Gabrielli\, Segretaria confederale CGIL\nGiuseppe Guerini\, Presidente CECOP\nDonatella Prampolini Manzini\, Vice Presidente Confcommercio\nIvana Veronese\, Segretaria confederale UIL
URL:https://www.ildiariodellavoro.it/evento/ripensare-il-valore-sociale-e-la-dimensione-collettiva-del-lavoro/
CATEGORIES:Convegno
ATTACH;FMTTYPE=image/webp:https://www.ildiariodellavoro.it/wp-content/uploads/2024/10/slide-speakers-presentazione-1.webp
END:VEVENT
END:VCALENDAR