BEGIN:VCALENDAR
VERSION:2.0
PRODID:-//Il Diario del Lavoro - ECPv6.15.11//NONSGML v1.0//EN
CALSCALE:GREGORIAN
METHOD:PUBLISH
X-ORIGINAL-URL:https://www.ildiariodellavoro.it
X-WR-CALDESC:Eventi per Il Diario del Lavoro
REFRESH-INTERVAL;VALUE=DURATION:PT1H
X-Robots-Tag:noindex
X-PUBLISHED-TTL:PT1H
BEGIN:VTIMEZONE
TZID:Europe/Rome
BEGIN:DAYLIGHT
TZOFFSETFROM:+0100
TZOFFSETTO:+0200
TZNAME:CEST
DTSTART:20240331T010000
END:DAYLIGHT
BEGIN:STANDARD
TZOFFSETFROM:+0200
TZOFFSETTO:+0100
TZNAME:CET
DTSTART:20241027T010000
END:STANDARD
BEGIN:DAYLIGHT
TZOFFSETFROM:+0100
TZOFFSETTO:+0200
TZNAME:CEST
DTSTART:20250330T010000
END:DAYLIGHT
BEGIN:STANDARD
TZOFFSETFROM:+0200
TZOFFSETTO:+0100
TZNAME:CET
DTSTART:20251026T010000
END:STANDARD
BEGIN:DAYLIGHT
TZOFFSETFROM:+0100
TZOFFSETTO:+0200
TZNAME:CEST
DTSTART:20260329T010000
END:DAYLIGHT
BEGIN:STANDARD
TZOFFSETFROM:+0200
TZOFFSETTO:+0100
TZNAME:CET
DTSTART:20261025T010000
END:STANDARD
END:VTIMEZONE
BEGIN:VEVENT
DTSTART;TZID=Europe/Rome:20250117T170000
DTEND;TZID=Europe/Rome:20250117T170000
DTSTAMP:20260426T012750
CREATED:20250116T111446Z
LAST-MODIFIED:20250116T111606Z
UID:10000367-1737133200-1737133200@www.ildiariodellavoro.it
SUMMARY:VIOLENZA SUGLI OPERATORI SANITARI - UN BOLLETTINO DI GUERRA
DESCRIPTION:VIOLENZA SUGLI OPERATORI SANITARI\nUN BOLLETTINO DI GUERRA \n17 gennaio 2025  – Palazzo Pirelli – Belvedere Jannacci – Trentunesimopiano – Via Fabio Filzi\, 22 – Milano
URL:https://www.ildiariodellavoro.it/evento/violenza-sugli-operatori-sanitari-un-bollettino-di-guerra/
CATEGORIES:Convegno
ATTACH;FMTTYPE=image/jpeg:https://www.ildiariodellavoro.it/wp-content/uploads/2025/01/LOCANDINA-CONVEGNO.jpg
END:VEVENT
BEGIN:VEVENT
DTSTART;TZID=Europe/Rome:20250121T103000
DTEND;TZID=Europe/Rome:20250121T103000
DTSTAMP:20260426T012750
CREATED:20250116T212512Z
LAST-MODIFIED:20250116T212519Z
UID:10000368-1737455400-1737455400@www.ildiariodellavoro.it
SUMMARY:L’INPS PROTAGONISTA NELLA TRASFORMAZIONE DEL PAESE
DESCRIPTION:L’INPS PROTAGONISTA NELLA TRASFORMAZIONE DEL PAESE\nGli indirizzi del Consiglio di indirizzo e vigilanza per un Istituto vicino all’utenza e radicato nel territorio\, garante della partecipazione e della coesione sociale\n\n21 gennaio 2025 – Palazzo Wedekind – piazza Colonna\, 366 – ore 10\,30 – Roma\n\nPROGRAMMA – Inizio lavori ore 10.30 \nApertura\nDomenico Proietti – Coordinatore Commissione Istituzionale del Civ\nIntervento di saluto del Presidente dell’INPS – Gabriele Fava\n\nPrima sessione\nAnalisi sulla presenza nel territorio\, l’accessibilità e il ciclo produttivo dell’Istituto\nPrisca Duranti – segreteria tecnica del Civ \nSeconda sessione\nLe Linee di indirizzo del Civ sulla presenza dell’Istituto nel territorio\, sul rapporto con l’utenza e la riorganizzazione dell’Ente (delibera Civ n. 34/2023)\nIntroduzione al tema e aspetti organizzativi\nGregorio Tito – Coordinatore Commissione temporanea\n“Presenza dell’Istituto sul territorio e processo produttivo” del Civ.\nAspetti tecnologici – Giovanni Morleo – Consigliere Civ\nAspetti formativi e delle risorse umane – Antonio Zampiga – Consigliere Civ \nIntervento\nValeria Vittimberga – Direttore Generale Inps\n\nTerza sessione\nL’Istituto e la rete territoriale della tutela\nIntroduce Angela Maria Caracciolo – consigliere Civ\nInterventi Michele Pagliaro – Presidente raggruppamento Patronati Ce.Pa.\nGiovanni Angileri – Coordinatore Consulta CAF\nGiovanni Marcantonio – Segretario Consiglio nazionale dell’Ordine dei Consulenti del Lavoro \nCoordina i lavori della mattina\nAlessandro Casile – Responsabile della Segreteria del Civ \nPROGRAMMA – Pomeriggio\nOre 13.30 – 14.30 lunch break\n\nQuarta sessione\nL’Inps promotore della partecipazione sociale e della cooperazione istituzionale nel territorio\nIntroduce\nGuido Lazzarelli – Vice-Presidente Civ\n\nInterventi\nMarco Bucci  – Presidente Regione Liguria\nRoberto Gualtieri – Sindaco di Roma\nEnzo Lattuca  – Sindaco di Cesena\nVanessa Pallucchi – Portavoce Forum del terzo settore\n\nConsiderazioni conclusive Roberto Ghiselli  Presidente Civ\n\nCoordina\ni lavori del pomeriggio Andrea Bassi – giornalista de “Il Messaggero”.
URL:https://www.ildiariodellavoro.it/evento/linps-protagonista-nella-trasformazione-del-paese/
CATEGORIES:Convegno
END:VEVENT
BEGIN:VEVENT
DTSTART;TZID=Europe/Rome:20250127T140000
DTEND;TZID=Europe/Rome:20250127T140000
DTSTAMP:20260426T012750
CREATED:20250116T102334Z
LAST-MODIFIED:20250116T102341Z
UID:10000366-1737986400-1737986400@www.ildiariodellavoro.it
SUMMARY:APPALTI PUBBLICI E COSTO DEL LAVORO
DESCRIPTION:APPALTI PUBBLICI E COSTO DEL LAVORO\nLa questione dei contratti collettivi \n27 gennaio 2025 – Sala Plenaria Marco Biagi e in diretta sul canale YouTube del CNEL – Ore 14\,00 -Roma \n14\,00 – Introduzione Prof. Renato BRUNETTA – Presidente CNEL\n14\,15 – Stato dell’arte delle Progetto di Ricerca di Interesse Nazionale – Prof. Giovanni ORLANDINI – Università di Siena \nPRIMA SESSIONE \nL’art. 11 del Codice dei Contratti Pubblici dopo il “correttivo appalti” \n14\,25 – L’art. 11 del Codice Appalti nella giurisprudenza Prof. Alberto Tampieri – Università di Modena e Reggio Emilia\n14\,45 – Il contratto collettivo di riferimento: un esercizio di applicazione amministrativa – Dott. Marco Guerini – Università di Catania\n15\,00 – Contratti collettivi e tutele equivalenti dopo il “correttivo appalti” – Prof. Giancarlo RICCI – Università di Catania\n15\,20 – L’equivalenza delle tutele del lavoro: un esercizio di applicazione amministrativa – Dott.ssa Ivana Santoro – Università del Molise \nSECONDA SESSIONE \nTavola rotonda \n15.35 – Introduce e modera \nProf. Vincenzo BAVARO – Università di Bari Aldo Moro\nDott. Lorenzo CORDI’ – Consiglio di Stato – Consigliere giuridico MIT\nDott. Alberto CUCCHIARELLI – ANAC\nDott. Romolo DE CAMILLIS – Dir. Gen. Sviluppo Sociale – Ministero del Lavoro\nDott.ssa Carla PONTERIO – Corte di Cassazione – Sezione Lavoro \n16\,40 – Dibattito. Interventi programmati\nCONFINDUSTRIA – Piero ALBINI\nCGIL – Francesca RE DAVID\nUIL – Vera BUONOMO\nCISL – Mattia PIRULLI\nCONFCOMMERCIO – Guido LAZZARELLI \n17\,30 Fine lavori. \n 
URL:https://www.ildiariodellavoro.it/evento/appalti-pubblici-e-costo-del-lavoro/
CATEGORIES:Convegno
END:VEVENT
BEGIN:VEVENT
DTSTART;TZID=Europe/Rome:20250128T163000
DTEND;TZID=Europe/Rome:20250128T163000
DTSTAMP:20260426T012750
CREATED:20250121T160559Z
LAST-MODIFIED:20250121T160731Z
UID:10000377-1738081800-1738081800@www.ildiariodellavoro.it
SUMMARY:“LA MILANO DI ANNA KULISCIOFF\, DONNA D’EUROPA”
DESCRIPTION:“LA MILANO DI ANNA KULISCIOFF\, DONNA D’EUROPA” \n28 gennaio 2025 – Palazzo Moriggia – Museo del Risorgimento – Sala Conferenze – Via Borgonuovo\, 23 – ore 16\,30 – Milano
URL:https://www.ildiariodellavoro.it/evento/la-milano-di-anna-kuliscioff-donna-deuropa/
CATEGORIES:Convegno
ATTACH;FMTTYPE=image/jpeg:https://www.ildiariodellavoro.it/wp-content/uploads/2025/01/image005.jpg
END:VEVENT
BEGIN:VEVENT
DTSTART;TZID=Europe/Rome:20250129T093000
DTEND;TZID=Europe/Rome:20250129T093000
DTSTAMP:20260426T012750
CREATED:20250124T135532Z
LAST-MODIFIED:20250124T135649Z
UID:10000382-1738143000-1738143000@www.ildiariodellavoro.it
SUMMARY:“LIBERARE IL LAVORO. ROSSANA ROSSANDA E LE QUESTIONI DEL LAVORO\, IERI E OGGI”
DESCRIPTION:“LIBERARE IL LAVORO. ROSSANA ROSSANDA E LE QUESTIONI DEL LAVORO\, IERI E OGGI” \n29 gennaio 2025 – presso l’aula 15 della Scuola di Lettere\, Filosofia e Lingua dell’Università di RomaTre – Via Ostiense\, 236 – dalle ore 9.30 – Roma \nIn occasione del centenario della nascita di Rossana Rossanda\, la Fondazione Di Vittorio\, la Cgil di Roma e del Lazio\, l’Iress Lazio\, Sbilanciamoci! e il Comitato per il centenario di Rossana Rossanda hanno deciso di organizzare una giornata di studio volta ad approfondire i molteplici aspetti e le diverse fasi della riflessione condotta da Rossanda sulle questioni del lavoro\, dell’economia e del sindacato e le iniziative\, dalla fine degli anni sessanta sino ad arrivare alla stagione delle politiche europee di austerity.\nIl convegno\, dal titolo “Liberare il lavoro. Rossana Rossanda e le questioni del lavoro\, ieri e oggi” che si svolgerà il 29 gennaio. Vedrà la presenza di esponenti del mondo giornalistico\, accademico e sindacale\, tra cui il Segretario Generale CGIL Maurizio Landini.\nIl convegno è parte di un seminario permanente dal titolo “Culture Politiche. Culture del lavoro” che nelle intenzioni della FDV vuol essere un continuo confronto\, in collaborazione con territori e Camere del Lavoro\, attraverso cui produrre pensiero\, dibattito ed elaborazione su momenti ed aspetti della nostra tradizione\, da noi ritenuti particolarmente rilevanti e fecondi rispetto alle sfide che gli scenari odierni e le trasformazioni contemporanee ci pongono di fronte.
URL:https://www.ildiariodellavoro.it/evento/liberare-il-lavoro-rossana-rossanda-e-le-questioni-del-lavoro-ieri-e-oggi/
CATEGORIES:Convegno
ATTACH;FMTTYPE=image/png:https://www.ildiariodellavoro.it/wp-content/uploads/2025/01/Rossana-Rossanda-locandina-29-gennaio.png
END:VEVENT
END:VCALENDAR