BEGIN:VCALENDAR
VERSION:2.0
PRODID:-//Il Diario del Lavoro - ECPv6.15.11//NONSGML v1.0//EN
CALSCALE:GREGORIAN
METHOD:PUBLISH
X-ORIGINAL-URL:https://www.ildiariodellavoro.it
X-WR-CALDESC:Eventi per Il Diario del Lavoro
REFRESH-INTERVAL;VALUE=DURATION:PT1H
X-Robots-Tag:noindex
X-PUBLISHED-TTL:PT1H
BEGIN:VTIMEZONE
TZID:Europe/Rome
BEGIN:DAYLIGHT
TZOFFSETFROM:+0100
TZOFFSETTO:+0200
TZNAME:CEST
DTSTART:20240331T010000
END:DAYLIGHT
BEGIN:STANDARD
TZOFFSETFROM:+0200
TZOFFSETTO:+0100
TZNAME:CET
DTSTART:20241027T010000
END:STANDARD
BEGIN:DAYLIGHT
TZOFFSETFROM:+0100
TZOFFSETTO:+0200
TZNAME:CEST
DTSTART:20250330T010000
END:DAYLIGHT
BEGIN:STANDARD
TZOFFSETFROM:+0200
TZOFFSETTO:+0100
TZNAME:CET
DTSTART:20251026T010000
END:STANDARD
BEGIN:DAYLIGHT
TZOFFSETFROM:+0100
TZOFFSETTO:+0200
TZNAME:CEST
DTSTART:20260329T010000
END:DAYLIGHT
BEGIN:STANDARD
TZOFFSETFROM:+0200
TZOFFSETTO:+0100
TZNAME:CET
DTSTART:20261025T010000
END:STANDARD
BEGIN:DAYLIGHT
TZOFFSETFROM:+0100
TZOFFSETTO:+0200
TZNAME:CEST
DTSTART:20270328T010000
END:DAYLIGHT
BEGIN:STANDARD
TZOFFSETFROM:+0200
TZOFFSETTO:+0100
TZNAME:CET
DTSTART:20271031T010000
END:STANDARD
END:VTIMEZONE
BEGIN:VEVENT
DTSTART;TZID=Europe/Rome:20251216T100000
DTEND;TZID=Europe/Rome:20251216T100000
DTSTAMP:20260424T012447
CREATED:20251211T080254Z
LAST-MODIFIED:20251215T114122Z
UID:10001005-1765879200-1765879200@www.ildiariodellavoro.it
SUMMARY:NO ALLO SFRUTTAMENTO\, SI ALLA QUALITA’ DELLA MODA”
DESCRIPTION:NO ALLO SFRUTTAMENTO\, SI ALLA QUALITA’ DELLA MODA”\nCONVEGNO CGIL-FILTCEM IN PARALLELO CON LA DISCUSSIONE A MONTECITORIO PER L’APPROVAZIONE DELLA CONTESTATA LEGGE SULLE PMI \n16 dicembre 2025 – presso la sede della Camera di Commercio  – Via del Romito\, 71 – dalle ore 10\,00 – Prato \nConvegno di Cgil e Filctem Cgil per dire no alla “proposta di legge per le PMI che prevede l’esclusione delle grandi aziende committenti del settore moda da possibili responsabilità organizzative e di omesso controllo in caso di lavoro e sfruttamento lungo la filiera”. \nConvegno dal titolo  “No allo sfruttamento\, sì alla qualità del sistema moda” voluto dalla Cgil e Filctem Cgil. \nAll’iniziativa interverranno i parlamentari:\nAnnamaria Furlan (Italia Viva)\, Maria Cecilia Guerra (Partito Democratico) e Marco Grimaldi (Alleanza Verdi Sinistra). \nPer la Filctem Cgil il segretario generale Marco Falcinelli e la segretaria nazionale Cinzia Maiolini. \nPrenderanno\, inoltre\, la parola il presidente di Confartigianato Moda\, Moreno Vignolini\, Antonio Franceschini\, responsabile nazionale CNA Federmoda\, Gessica Beneforti e Daniele Gioffredi\, rispettivamente segretaria CGIL Toscana e segretario generale CGIL Prato-Pistoia. \nL’evento si svolgerà in contemporanea alla discussione per l’approvazione alla Camera dei Deputati della proposta di legge per le PMI che prevede l’esclusione delle grandi aziende committenti del settore moda da possibili responsabilità organizzative e di omesso controllo in caso di lavoro e sfruttamento lungo la filiera. \nIl convegno sarà l’occasione per ribadire\, come fatto nelle diverse sedi parlamentari e nei confronti del Governo\, la richiesta di ritiro delle norme proposte\, in particolare dello scudo per i committenti di cui all’articolo 30 della proposta di legge per le PMI\, e l’apertura di un tavolo di confronto tra tutte le parti sociali per definire specifici interventi\, anche di carattere preventivo\, per contrastare le varie forme di sfruttamento in appalti e forniture del sistema moda\, che anche recentemente sono emerse da alcune inchieste della magistratura lungo le filiere produttive.
URL:https://www.ildiariodellavoro.it/evento/no-allo-sfruttamento-si-alla-qualita-della-moda/
CATEGORIES:Convegno
ATTACH;FMTTYPE=image/jpeg:https://www.ildiariodellavoro.it/wp-content/uploads/2025/12/Moda_Iniziativa-a-Prato-del-16-dicembre_page-0001.jpg
END:VEVENT
BEGIN:VEVENT
DTSTART;TZID=Europe/Rome:20251219T100000
DTEND;TZID=Europe/Rome:20251219T100000
DTSTAMP:20260424T012447
CREATED:20251212T164005Z
LAST-MODIFIED:20251212T164028Z
UID:10001007-1766138400-1766138400@www.ildiariodellavoro.it
SUMMARY:CONVEGNO: “LA DOTTORA DEI POVERI” PREMIO ANNA KULISCIOFF 2025
DESCRIPTION:CONVEGNO: “LA DOTTORA DEI POVERI” PREMIO ANNA KULISCIOFF 2025 \n19 dicembre 2025 – presso la  sala 113 dell’Università degli Studi di Milano – via Festa del Perdono\, 3 – ore 10\,00 – Milano
URL:https://www.ildiariodellavoro.it/evento/convegno-la-dottora-dei-poveri-premio-anna-kuliscioff-2025/
CATEGORIES:Convegno
ATTACH;FMTTYPE=image/jpeg:https://www.ildiariodellavoro.it/wp-content/uploads/2025/12/Locandine-A3-Anna-Universita-di-Milano-scaled.jpg
END:VEVENT
BEGIN:VEVENT
DTSTART;TZID=Europe/Rome:20260120T100000
DTEND;TZID=Europe/Rome:20260120T170000
DTSTAMP:20260424T012447
CREATED:20260116T143106Z
LAST-MODIFIED:20260116T143106Z
UID:10001025-1768903200-1768928400@www.ildiariodellavoro.it
SUMMARY:DONNE E MOBILITA’
DESCRIPTION:DONNE E MOBILITA’ \n20 gennaio 2026 – Spazio Sala Borsa – Auditorium Biagi – Piazza Nettuno\, 3 – dalle ore 10\,00 alle ore 17\,00 – Bologna \n 
URL:https://www.ildiariodellavoro.it/evento/donne-e-mobilita/
CATEGORIES:Convegno
ATTACH;FMTTYPE=image/jpeg:https://www.ildiariodellavoro.it/wp-content/uploads/2026/01/Programa-Definitivo-Evento-Donne-Mobilita-Bologna-20genn26-2_page-0001.jpg
END:VEVENT
BEGIN:VEVENT
DTSTART;TZID=Europe/Rome:20260210T093000
DTEND;TZID=Europe/Rome:20260210T093000
DTSTAMP:20260424T012447
CREATED:20260128T091628Z
LAST-MODIFIED:20260128T095047Z
UID:10001046-1770715800-1770715800@www.ildiariodellavoro.it
SUMMARY:LA QUALITA’ DELLA FORMAZIONE PROFESSIONALE IN ITALIA NELLE TRANSIZIONI SOSTENIBILI. EVIDENZE EMPIRICHE E PROSPETTIVE DI POLITICA
DESCRIPTION:LA QUALITA’ DELLA FORMAZIONE PROFESSIONALE IN ITALIA NELLE TRANSIZIONI SOSTENIBILI. EVIDENZE EMPIRICHE E PROSPETTIVE DI POLITICA \n10 febbraio 2026 – Università degli Studi di Ferrara – Aula Magna del Dipartimento di Economia e Management- Via Voltapaletto\,11  – ore 9\,30 – Ferrara \nProgramma  \n9.30-10-00 – Registrazione \n10.00-11.15 – Introduzione ai lavori \nMassimiliano Mazzanti – Professore ordinario di Politica economica\, Università di Ferrara \nFormazione e Innovazione nelle imprese italiane: aspetti concettuali ed evidenze empiriche\nGiovanni Guidetti – Professore Associato di Politica Economica\, Università di Bologna \nIl contributo all’innovazione nella formazione professionale dei partenariati per l’eccellenza: il progetto EXCEED – Excellence in Green and Digital Manufacturing\nElena Romanini – Project Manager Centoform \n11.45-13.00 – Quando il lavoro cambia forma: digitalizzazione\, piattaforme e nuova articolazione delle istituzioni formative\nMassimo De Minicis – Responsabile del gruppo di ricerca Innovazione tecnologica\, mercato del lavoro e nuove tutele\, INAPP \nRisorse individuali e transizioni sostenibili nei giovani: evidenze dal progetto Euregio Transizioni\nFrancesco Pisanu – Direttore Ufficio per la Valutazione delle Politiche Scolastiche\, Provincia autonoma di Trento\, Dipartimento Istruzione e Cultura\nFranco Fraccaroli – Professore Ordinario di Psicologia del Lavoro e delle Organizzazioni\, Università degli Studi di Trento\, Dipartimento di Psicologia e Scienze Cognitive  \nEsperienze e pratiche di Assicurazione Qualità in EfVET: dall’approccio multistakeholder alla Valutazione tra Pari\nSylvia Liuti – Vicepresidente EfVET per progetti e partnership \n14.15-15.00 – L’ecosistema della formazione terziaria professionalizzante e l’esperienza dell’Emilia Romagna\nMichele Pinelli – Professore ordinario di Macchine a Fluido e delegato UNIFE Lauree Professionalizzanti\, Università degli Studi di Ferrara  \nLe politiche europee per la qualità della formazione e il ruolo del National Reference Point EQAVET\nLaura Evangelista – Coordinatrice National Reference Point EQAVET\, INAPP\nConcetta Fonzo – Vicecoordinatrice National Reference Point EQAVET\, INAPP \n15.00 -17.30 – Sessione parallela I:\nCoordinano Massimiliano Mazzanti – Università degli Studi di Ferrara e Laura Evangelista\, INAPP\nLa qualità che non sta ferma: sistema adattivo e indicatori GenAI-aware per valutare qualità\, efficacia ed equità dell’IFP in coerenza con EQAVET\nVivaldo Moscatelli \nINSIGHT-PRO: un framework AI-driven per misurare e governare la qualità dell’IFP nelle transizioni sostenibili\nVivaldo Moscatelli\, Anna Suozzi \nLa qualità della formazione professionale in Italia\, Evidenze empiriche e prospettive di politica \nMarcolini Paolo\, Sabattini Francesca \nThriving in initial VET: a mixed methods study of career transitions in the Lazio Region\nAstrid Favella\, Emiliane Rubat du Mérac \nIl sistema Duale nella formazione professionale iniziale: una politica formativa efficace\nAndra Carlini\, Paola Paniccio\, Christian Poggi \nSessione parallela II:\nCoordinano Concetta Fonzo – INAPP e Nicolò Barbieri – Università degli Studi di Ferrara \nQuando il lavoro cambia più in fretta della formazione: governare le competenze negli ecosistemi territoriali del settore vitivinicolo \nMiriana Bucalossi\, Paolo Brogioni \nTransizione della sostenibilità da una prospettiva di governance multilivello \nDonald Francisco Quintana Sequeira \nIFTS e fabbisogni di competenze emergenti: governance\, occupabilità e sviluppo territoriale\nAndrea Carlini\, Claudia Spigola  \nAnticipare invece di inseguire: Future Studies e Anticipatory Training per una nuova governance della qualità nell’IFP\nVivaldo Moscatelli\, Anna Suozzi \nFormare alla complessità della Generative AI: il modello CompleXAI LAB tra la fenomenologia della competenza e i sistemi adattivi complessi \nVivaldo Moscatelli  \n17.30- 18.00  – Conclusione dei lavori a cura del Dipartimento di Economia e Management\, Università degli Studi di Ferrara e del National Reference Point EQAVET\, INAPP. \n 
URL:https://www.ildiariodellavoro.it/evento/la-qualita-della-formazione-professionale-in-italia-nelle-transizioni-sostenibili-evidenze-empiriche-e-prospettive-di-politica/
CATEGORIES:Convegno
END:VEVENT
BEGIN:VEVENT
DTSTART;TZID=Europe/Rome:20260212T093000
DTEND;TZID=Europe/Rome:20260212T093000
DTSTAMP:20260424T012447
CREATED:20260209T090723Z
LAST-MODIFIED:20260209T090756Z
UID:10001057-1770888600-1770888600@www.ildiariodellavoro.it
SUMMARY:“I DIRITTI NON SI ARRESTANO”: UN CONVEGNO CGIL DEDICATO ALLA TUTELA DEI DIRITTI NELLE CARCERI
DESCRIPTION:“I DIRITTI NON SI ARRESTANO”: UN CONVEGNO CGIL DEDICATO ALLA TUTELA DEI DIRITTI NELLE CARCERI \n12 febbraio 2026 – Camera del Lavoro di Milano – Sala Buozzi – Corso di Porta Vittoria 43 – Ore 9\,30 – Milano \nI diritti non si arrestano\, nemmeno dietro le sbarre. Con questo messaggio CGIL Milano\, Varese\, Monza e Brianza e CGIL Lombardia promuovono l’iniziativa “I diritti non si arrestano”. \nUn momento pubblico di confronto e approfondimento sul lavoro degli sportelli sindacali negli istituti penitenziari e sulla tutela dei diritti delle persone detenute\, troppo spesso invisibili ma pienamente titolari di diritti costituzionali. \nLa situazione delle carceri del nostro Paese\, e della nostra Regione\, è drammatica. Il numero dei suicidi e i tassi di sovraffollamento sono solo alcune delle spie che segnalano quanto nel nostro Paese\, nonostante lo sforzo di molti\, siamo molti lontani dal rispetto del dettato costituzionale che stabilisce che le pene non possano consistere in trattamenti contrari al senso di umanità e devono tendere alla rieducazione. Le risposte del governo non hanno altro orizzonte che quello di aumentare il numero dei reati e le pene\, in una logica repressiva e securitaria. \nLa Cgil in questi anni ha messo in campo alleanze\, pratiche contrattuali\, interventi di tutela individuale negli Istituti Penitenziari del territorio per conoscere la realtà carceraria e provare a dare risposte ai sempre maggiori bisogni\, in un quadro segnato quotidianamente dalla negazione dell’accesso e dell’esigibilità dei diritti. \nIn particolare gli sportelli sindacali presenti negli istituti di pena del territorio lombardo offrono assistenza\, orientamento e tutela su lavoro\, previdenza\, welfare e casa. Un impegno concreto che nel solo 2025 ha prodotto numeri significativi: oltre 750 pratiche seguite\, relative alla previdenza e all’assistenza (in particolare NASpI\, con attività vertenziale sui dinieghi per le persone detenute)\, invalidità\, estratti contributivi\, pensioni\, oltre a pratiche fiscali (ISEE\, RED)\, tutela per violazioni nei rapporti di lavoro e domande di accesso all’edilizia residenziale pubblica. \nAccanto alle pratiche formali\, l’attività sindacale nelle carceri è anche ascolto\, orientamento e costruzione di relazioni. Considerando le persone incontrate più volte\, le richieste di informazione generale sui servizi e sulle prestazioni\, le domande che esulano dallo sportello diritti e gli spazi di ascolto e socialità\, nel 2025 la CGIL ha registrato oltre 4.000 contatti complessivi. \nSan Vittore\, Bollate\, Opera\, Monza\, Varese e Busto Arsizio: una presenza capillare che testimonia la volontà del sindacato di non arretrare di fronte alle difficoltà e di continuare a garantire diritti anche nei contesti più fragili. \n  \n 
URL:https://www.ildiariodellavoro.it/evento/i-diritti-non-si-arrestano-un-convegno-cgil-dedicato-alla-tutela-dei-diritti-nelle-carceri/
CATEGORIES:Convegno
ATTACH;FMTTYPE=image/jpeg:https://www.ildiariodellavoro.it/wp-content/uploads/2026/02/624841014_1546832234114714_7482671885239213189_n.jpg
END:VEVENT
BEGIN:VEVENT
DTSTART;TZID=Europe/Rome:20260309T143000
DTEND;TZID=Europe/Rome:20260309T143000
DTSTAMP:20260424T012447
CREATED:20260309T082544Z
LAST-MODIFIED:20260309T082625Z
UID:10001113-1773066600-1773066600@www.ildiariodellavoro.it
SUMMARY:CONVEGNO: "LA CITTA' QUOTIDIANA HA VOCE DI DONNA"
DESCRIPTION:CONVEGNO: “LA CITTA’ QUOTIDIANA HA VOCE DI DONNA” \n9 marzo 2026 – Uil – Centro Convegni Bruno Buozzi – ore 14\,30 – Roma
URL:https://www.ildiariodellavoro.it/evento/convegno-la-citta-quotidiana-ha-voce-di-donna/
CATEGORIES:Convegno
ATTACH;FMTTYPE=image/jpeg:https://www.ildiariodellavoro.it/wp-content/uploads/2026/03/20260303_Locandina-9-Marzo_page-0001-1.jpg
END:VEVENT
BEGIN:VEVENT
DTSTART;TZID=Europe/Rome:20260318T103000
DTEND;TZID=Europe/Rome:20260318T130000
DTSTAMP:20260424T012447
CREATED:20260123T175002Z
LAST-MODIFIED:20260123T175002Z
UID:10001040-1773829800-1773838800@www.ildiariodellavoro.it
SUMMARY:PARTECIPAZIONE DEI LAVORATORI E ARTICOLO 46 DELLA COSTITUZIONE – CONVEGNO IN RICORDO DI MARCO BIAGI A 24 ANNI DALLA SUA SCOMPARSA
DESCRIPTION:PARTECIPAZIONE DEI LAVORATORI E ARTICOLO 46 DELLA COSTITUZIONE – CONVEGNO IN RICORDO DI MARCO BIAGI A 24 ANNI DALLA SUA SCOMPARSA \n18 marzo 2026 – Cnel – Sala Plenaria “Marco Biagi” – Viale Davide Lubin\, 2 – dalle ore 10\,30 alle ore 13\,00 – Roma
URL:https://www.ildiariodellavoro.it/evento/partecipazione-dei-lavoratori-e-articolo-46-della-costituzione-convegno-in-ricordo-di-marco-biagi-a-24-anni-dalla-sua-scomparsa/
CATEGORIES:Convegno
ATTACH;FMTTYPE=image/jpeg:https://www.ildiariodellavoro.it/wp-content/uploads/2026/01/2026_18_03_convegno_biagi__page-0001.jpg
END:VEVENT
BEGIN:VEVENT
DTSTART;TZID=Europe/Rome:20260418T150000
DTEND;TZID=Europe/Rome:20260418T150000
DTSTAMP:20260424T012447
CREATED:20260417T162815Z
LAST-MODIFIED:20260417T163035Z
UID:10001171-1776524400-1776524400@www.ildiariodellavoro.it
SUMMARY:ECONOMIA\, LAVORO\, FRATERNITA’ IN UN’EPOCA DI CAMBIAMENTO
DESCRIPTION:ECONOMIA\, LAVORO\, FRATERNITA’ IN UN’EPOCA DI CAMBIAMENTO \n18 aprile 2026 – presso Habitat – via Berlinguer\, 201 – ore 15.00 – Soliera \nIl segretario generale della Cgil Maurizio Landini interverrà al convegno ‘Economia\, lavoro\, fraternità in un’epoca di cambiamento’.
URL:https://www.ildiariodellavoro.it/evento/economia-lavoro-fraternita-in-unepoca-di-cambiamento/
CATEGORIES:Convegno
ATTACH;FMTTYPE=image/webp:https://www.ildiariodellavoro.it/wp-content/uploads/2026/04/18_aprile_26-jpeg.webp
END:VEVENT
END:VCALENDAR