BEGIN:VCALENDAR
VERSION:2.0
PRODID:-//Il Diario del Lavoro - ECPv6.15.11//NONSGML v1.0//EN
CALSCALE:GREGORIAN
METHOD:PUBLISH
X-WR-CALNAME:Il Diario del Lavoro
X-ORIGINAL-URL:https://www.ildiariodellavoro.it
X-WR-CALDESC:Eventi per Il Diario del Lavoro
REFRESH-INTERVAL;VALUE=DURATION:PT1H
X-Robots-Tag:noindex
X-PUBLISHED-TTL:PT1H
BEGIN:VTIMEZONE
TZID:Europe/Rome
BEGIN:DAYLIGHT
TZOFFSETFROM:+0100
TZOFFSETTO:+0200
TZNAME:CEST
DTSTART:20240331T010000
END:DAYLIGHT
BEGIN:STANDARD
TZOFFSETFROM:+0200
TZOFFSETTO:+0100
TZNAME:CET
DTSTART:20241027T010000
END:STANDARD
BEGIN:DAYLIGHT
TZOFFSETFROM:+0100
TZOFFSETTO:+0200
TZNAME:CEST
DTSTART:20250330T010000
END:DAYLIGHT
BEGIN:STANDARD
TZOFFSETFROM:+0200
TZOFFSETTO:+0100
TZNAME:CET
DTSTART:20251026T010000
END:STANDARD
BEGIN:DAYLIGHT
TZOFFSETFROM:+0100
TZOFFSETTO:+0200
TZNAME:CEST
DTSTART:20260329T010000
END:DAYLIGHT
BEGIN:STANDARD
TZOFFSETFROM:+0200
TZOFFSETTO:+0100
TZNAME:CET
DTSTART:20261025T010000
END:STANDARD
END:VTIMEZONE
BEGIN:VEVENT
DTSTART;TZID=Europe/Rome:20250127T140000
DTEND;TZID=Europe/Rome:20250127T140000
DTSTAMP:20260426T013051
CREATED:20250116T102334Z
LAST-MODIFIED:20250116T102341Z
UID:10000366-1737986400-1737986400@www.ildiariodellavoro.it
SUMMARY:APPALTI PUBBLICI E COSTO DEL LAVORO
DESCRIPTION:APPALTI PUBBLICI E COSTO DEL LAVORO\nLa questione dei contratti collettivi \n27 gennaio 2025 – Sala Plenaria Marco Biagi e in diretta sul canale YouTube del CNEL – Ore 14\,00 -Roma \n14\,00 – Introduzione Prof. Renato BRUNETTA – Presidente CNEL\n14\,15 – Stato dell’arte delle Progetto di Ricerca di Interesse Nazionale – Prof. Giovanni ORLANDINI – Università di Siena \nPRIMA SESSIONE \nL’art. 11 del Codice dei Contratti Pubblici dopo il “correttivo appalti” \n14\,25 – L’art. 11 del Codice Appalti nella giurisprudenza Prof. Alberto Tampieri – Università di Modena e Reggio Emilia\n14\,45 – Il contratto collettivo di riferimento: un esercizio di applicazione amministrativa – Dott. Marco Guerini – Università di Catania\n15\,00 – Contratti collettivi e tutele equivalenti dopo il “correttivo appalti” – Prof. Giancarlo RICCI – Università di Catania\n15\,20 – L’equivalenza delle tutele del lavoro: un esercizio di applicazione amministrativa – Dott.ssa Ivana Santoro – Università del Molise \nSECONDA SESSIONE \nTavola rotonda \n15.35 – Introduce e modera \nProf. Vincenzo BAVARO – Università di Bari Aldo Moro\nDott. Lorenzo CORDI’ – Consiglio di Stato – Consigliere giuridico MIT\nDott. Alberto CUCCHIARELLI – ANAC\nDott. Romolo DE CAMILLIS – Dir. Gen. Sviluppo Sociale – Ministero del Lavoro\nDott.ssa Carla PONTERIO – Corte di Cassazione – Sezione Lavoro \n16\,40 – Dibattito. Interventi programmati\nCONFINDUSTRIA – Piero ALBINI\nCGIL – Francesca RE DAVID\nUIL – Vera BUONOMO\nCISL – Mattia PIRULLI\nCONFCOMMERCIO – Guido LAZZARELLI \n17\,30 Fine lavori. \n 
URL:https://www.ildiariodellavoro.it/evento/appalti-pubblici-e-costo-del-lavoro/
CATEGORIES:Convegno
END:VEVENT
END:VCALENDAR