BEGIN:VCALENDAR
VERSION:2.0
PRODID:-//Il Diario del Lavoro - ECPv6.15.11//NONSGML v1.0//EN
CALSCALE:GREGORIAN
METHOD:PUBLISH
X-ORIGINAL-URL:https://www.ildiariodellavoro.it
X-WR-CALDESC:Eventi per Il Diario del Lavoro
REFRESH-INTERVAL;VALUE=DURATION:PT1H
X-Robots-Tag:noindex
X-PUBLISHED-TTL:PT1H
BEGIN:VTIMEZONE
TZID:Europe/Rome
BEGIN:DAYLIGHT
TZOFFSETFROM:+0100
TZOFFSETTO:+0200
TZNAME:CEST
DTSTART:20240331T010000
END:DAYLIGHT
BEGIN:STANDARD
TZOFFSETFROM:+0200
TZOFFSETTO:+0100
TZNAME:CET
DTSTART:20241027T010000
END:STANDARD
BEGIN:DAYLIGHT
TZOFFSETFROM:+0100
TZOFFSETTO:+0200
TZNAME:CEST
DTSTART:20250330T010000
END:DAYLIGHT
BEGIN:STANDARD
TZOFFSETFROM:+0200
TZOFFSETTO:+0100
TZNAME:CET
DTSTART:20251026T010000
END:STANDARD
BEGIN:DAYLIGHT
TZOFFSETFROM:+0100
TZOFFSETTO:+0200
TZNAME:CEST
DTSTART:20260329T010000
END:DAYLIGHT
BEGIN:STANDARD
TZOFFSETFROM:+0200
TZOFFSETTO:+0100
TZNAME:CET
DTSTART:20261025T010000
END:STANDARD
END:VTIMEZONE
BEGIN:VEVENT
DTSTART;TZID=Europe/Rome:20250319T090000
DTEND;TZID=Europe/Rome:20250319T090000
DTSTAMP:20260424T204828
CREATED:20250309T152602Z
LAST-MODIFIED:20250309T152626Z
UID:10000473-1742374800-1742374800@www.ildiariodellavoro.it
SUMMARY:TRASPORTO AEREO E FERROVIARIO
DESCRIPTION:TRASPORTO AEREO E FERROVIARIO\nStrategie per un sistema integrato e competitivo\n\n19 marzo 2025 – Hilton Rome Airport – Via Arturo Ferrarin\, 2 – Ore 9\,00 – Fiumicino \nINTRODUCE:\nSalvatore Pellecchia – Segretario Generale FIT-CISL \nRELAZIONANO:\nUgo Arrigo – Professore di Economia Politica e Finanza Pubblica Università Milano Bicocca\nGaetano Riccio – Segretario Nazionale FIT-CISL\nMonica Mascia – Segretaria Nazionale FIT-CISL\n\nINTERVENGONO:\nEdoardo Rixi – Viceministro delle Infrastrutture e dei Trasporti\nSalvatore Deidda – Presidente IX Commissione (trasporti\, poste e telecomunicazioni) Camera dei Deputati\nPierlugi Di Palma – Presidente ENAC\nMario Baccini – Sindaco di Fiumicino\nStefano Antonio Donnarumma – AD Gruppo FS\nJoerg Eberhart – AD ITA Airways\nMarco Troncone – AD ADR\nSalvatore Pellecchia – Segretario Generale FIT-CISL \nMODERA:\nGianluca Semprini – Giornalista RAI \nCONLCLUDE:\nDaniela Fumarola – Segretaria Generale CISL.
URL:https://www.ildiariodellavoro.it/evento/trasporto-aereo-e-ferroviario/
CATEGORIES:Convegno
END:VEVENT
END:VCALENDAR