BEGIN:VCALENDAR
VERSION:2.0
PRODID:-//Il Diario del Lavoro - ECPv6.15.11//NONSGML v1.0//EN
CALSCALE:GREGORIAN
METHOD:PUBLISH
X-ORIGINAL-URL:https://www.ildiariodellavoro.it
X-WR-CALDESC:Eventi per Il Diario del Lavoro
REFRESH-INTERVAL;VALUE=DURATION:PT1H
X-Robots-Tag:noindex
X-PUBLISHED-TTL:PT1H
BEGIN:VTIMEZONE
TZID:Europe/Rome
BEGIN:DAYLIGHT
TZOFFSETFROM:+0100
TZOFFSETTO:+0200
TZNAME:CEST
DTSTART:20240331T010000
END:DAYLIGHT
BEGIN:STANDARD
TZOFFSETFROM:+0200
TZOFFSETTO:+0100
TZNAME:CET
DTSTART:20241027T010000
END:STANDARD
BEGIN:DAYLIGHT
TZOFFSETFROM:+0100
TZOFFSETTO:+0200
TZNAME:CEST
DTSTART:20250330T010000
END:DAYLIGHT
BEGIN:STANDARD
TZOFFSETFROM:+0200
TZOFFSETTO:+0100
TZNAME:CET
DTSTART:20251026T010000
END:STANDARD
BEGIN:DAYLIGHT
TZOFFSETFROM:+0100
TZOFFSETTO:+0200
TZNAME:CEST
DTSTART:20260329T010000
END:DAYLIGHT
BEGIN:STANDARD
TZOFFSETFROM:+0200
TZOFFSETTO:+0100
TZNAME:CET
DTSTART:20261025T010000
END:STANDARD
END:VTIMEZONE
BEGIN:VEVENT
DTSTART;TZID=Europe/Rome:20250326T093000
DTEND;TZID=Europe/Rome:20250326T133000
DTSTAMP:20260424T232053
CREATED:20250321T110335Z
LAST-MODIFIED:20250321T110345Z
UID:10000491-1742981400-1742995800@www.ildiariodellavoro.it
SUMMARY:CONVEGNO SU RAPPRESENTANZA E PARTECIPAZIONE\, GLI ARTICOLO 39 E 46 DELLA COSTITUZIONE
DESCRIPTION:CONVEGNO SU RAPPRESENTANZA E PARTECIPAZIONE\, GLI ARTICOLO 39 E 46 DELLA COSTITUZIONE \n26 marzo 2025 – Palazzo Pirelli – Via Fabio Gilzi\, 22 – Sala Fiorella Ghilardotti – 5° piano – dalle ore 9\,30 alle ore 13\,30 – Milano \nIntroduce e coordina:\nClaudio Nigro – Fondazione Anna Kuliscioff \nIntervengono:\nGiorgio Benvenuto – Presidente Fondazione Bruno Buozzi\nGianni Bocchieri – Espero di Politiche contrattuali per del lavoro\nRoberto Di Maulo – Segretario Generale Fismic-CONFSAL\nPietro Ichino – Professore Emerito dell’Università degli Studi  di Milano\nMattia Pirulli – Segretario Confederale Cisl\nOnorio Rosati – Consigliere Regionale Lombardo AVS Reti Civiche\nLuca Stanzione – Segretario Generale Camera del lavoro di Milano. \n 
URL:https://www.ildiariodellavoro.it/evento/convegno-su-rappresentanza-e-partecipazione-gli-articolo-39-e-46-della-costituzione/
CATEGORIES:Convegno
END:VEVENT
END:VCALENDAR