BEGIN:VCALENDAR
VERSION:2.0
PRODID:-//Il Diario del Lavoro - ECPv6.15.11//NONSGML v1.0//EN
CALSCALE:GREGORIAN
METHOD:PUBLISH
X-ORIGINAL-URL:https://www.ildiariodellavoro.it
X-WR-CALDESC:Eventi per Il Diario del Lavoro
REFRESH-INTERVAL;VALUE=DURATION:PT1H
X-Robots-Tag:noindex
X-PUBLISHED-TTL:PT1H
BEGIN:VTIMEZONE
TZID:Europe/Rome
BEGIN:DAYLIGHT
TZOFFSETFROM:+0100
TZOFFSETTO:+0200
TZNAME:CEST
DTSTART:20240331T010000
END:DAYLIGHT
BEGIN:STANDARD
TZOFFSETFROM:+0200
TZOFFSETTO:+0100
TZNAME:CET
DTSTART:20241027T010000
END:STANDARD
BEGIN:DAYLIGHT
TZOFFSETFROM:+0100
TZOFFSETTO:+0200
TZNAME:CEST
DTSTART:20250330T010000
END:DAYLIGHT
BEGIN:STANDARD
TZOFFSETFROM:+0200
TZOFFSETTO:+0100
TZNAME:CET
DTSTART:20251026T010000
END:STANDARD
BEGIN:DAYLIGHT
TZOFFSETFROM:+0100
TZOFFSETTO:+0200
TZNAME:CEST
DTSTART:20260329T010000
END:DAYLIGHT
BEGIN:STANDARD
TZOFFSETFROM:+0200
TZOFFSETTO:+0100
TZNAME:CET
DTSTART:20261025T010000
END:STANDARD
END:VTIMEZONE
BEGIN:VEVENT
DTSTART;TZID=Europe/Rome:20250519T090000
DTEND;TZID=Europe/Rome:20250519T090000
DTSTAMP:20260424T214149
CREATED:20250507T082022Z
LAST-MODIFIED:20250512T073103Z
UID:10000574-1747645200-1747645200@www.ildiariodellavoro.it
SUMMARY:UNA LEGGE SULLA RAPPRESENTATIVITA’ SINDACALE E LA CONTRATTAZIONE COLLETTIVA
DESCRIPTION:UNA LEGGE SULLA RAPPRESENTATIVITA’ SINDACALE E LA CONTRATTAZIONE COLLETTIVA \n19 maggio 2025 – Viale Davide Lubin\, 2 – Plenaria marco Biagi – ore 9\,00 – Roma \nConvegno in ricordo di Massimo D’Antona e Umberto Romagnoli \nPRESIEDE\nManola Cavallini – Consigliere Cnel \n9\,30 – Saluti istituzionali\nRenato Brunetta – Presidente Cnel \nIN RICORDO DI MASSIMO D’ANTONA E UMBERTO ROMAGNOLI \nGuido Balandi – emerito Università di Ferrara\, Direttore di Lavoro e Diritto\nMario Rusciano – emerito Università Federico II di Napoli\, Direttore responsabile di Diritti Lavori Mercati \nIntroduzione\nFrancesca Re David – Segreteria nazionale CGIL \n10\,30 – LA COSTITUZIONE DELLE RAPPRESENTANZE SINDACALI NEI LUOGHI DI LAVORO E IL SINDACATO RAPPRESENTATIVO\nFranco Focareta – Università di Bologna \n11.00 – IL DIBATTITO DEGLI ANNI ’90 SULLE PROPOSTE LEGISLATIVE IN MATERIA DI RAPPRESENTANZA SINDACALE\nStefania Scarponi – già Università di Trento \n11\,30 – LA LEGGE SPAGNOLA E LA DOTTRINA ITALIANA\nAntonio Baylos – emerito Università di Castilla – La Mancha \n12\,00 – IL SISTEMA DELLE RELAZIONI SINDACALI NELLE PUBBLICHE AMMINISTRAZIONI\nLorenzo Zoppoli – Università Federico II di Napoli \n12\,30 – LE MOLTE QUESTIONI APERTE NELLO SCENARIO CONTEMPORANEO\nAndrea Lassandari – Università di Bologna \n13\,00 – CONCLUSIONI\nMaurizio Landini – Segretario Generale CGIL. \n  \n  \n 
URL:https://www.ildiariodellavoro.it/evento/una-legge-sulla-rappresentatitivta-sindacale-e-la-contrattazione-collettiva/
CATEGORIES:Convegno
ATTACH;FMTTYPE=image/webp:https://www.ildiariodellavoro.it/wp-content/uploads/2025/05/locandina-convegno-19-maggio-2025-jpeg.webp
END:VEVENT
END:VCALENDAR