BEGIN:VCALENDAR
VERSION:2.0
PRODID:-//Il Diario del Lavoro - ECPv6.15.11//NONSGML v1.0//EN
CALSCALE:GREGORIAN
METHOD:PUBLISH
X-ORIGINAL-URL:https://www.ildiariodellavoro.it
X-WR-CALDESC:Eventi per Il Diario del Lavoro
REFRESH-INTERVAL;VALUE=DURATION:PT1H
X-Robots-Tag:noindex
X-PUBLISHED-TTL:PT1H
BEGIN:VTIMEZONE
TZID:Europe/Rome
BEGIN:DAYLIGHT
TZOFFSETFROM:+0100
TZOFFSETTO:+0200
TZNAME:CEST
DTSTART:20240331T010000
END:DAYLIGHT
BEGIN:STANDARD
TZOFFSETFROM:+0200
TZOFFSETTO:+0100
TZNAME:CET
DTSTART:20241027T010000
END:STANDARD
BEGIN:DAYLIGHT
TZOFFSETFROM:+0100
TZOFFSETTO:+0200
TZNAME:CEST
DTSTART:20250330T010000
END:DAYLIGHT
BEGIN:STANDARD
TZOFFSETFROM:+0200
TZOFFSETTO:+0100
TZNAME:CET
DTSTART:20251026T010000
END:STANDARD
BEGIN:DAYLIGHT
TZOFFSETFROM:+0100
TZOFFSETTO:+0200
TZNAME:CEST
DTSTART:20260329T010000
END:DAYLIGHT
BEGIN:STANDARD
TZOFFSETFROM:+0200
TZOFFSETTO:+0100
TZNAME:CET
DTSTART:20261025T010000
END:STANDARD
END:VTIMEZONE
BEGIN:VEVENT
DTSTART;TZID=Europe/Rome:20250529T090000
DTEND;TZID=Europe/Rome:20250529T090000
DTSTAMP:20260424T082714
CREATED:20250523T083702Z
LAST-MODIFIED:20250523T083707Z
UID:10000646-1748509200-1748509200@www.ildiariodellavoro.it
SUMMARY:IL CAMBIAMENTO DEMOGRAFICO NELLA REALTA’ ITALIANA: PROSPETTIVE\, CAUSE E CONSEGUENZE
DESCRIPTION:IL CAMBIAMENTO DEMOGRAFICO NELLA REALTA’ ITALIANA: PROSPETTIVE\, CAUSE E CONSEGUENZE \n29 maggio 2025 – Cnel  – Plenaria Marco Biagi – Viale Davide Lubin 2 – Ore 9\,00 – Roma \nOre 9\,00 – Registrazione\nOre 10\,00 – SALUTI DI APERTURA\nRenato Brunetta – Presidente CNEL\nMarina Calderone – Ministro del Lavoro e delle Politiche Sociali \nOre 10\,30 – PRESENTAZIONE\nNatale Forlani – Presidente INAPP\nAnalisi e spunti di riflessione nell’approfondimento monografico della rivista Sinappsi n. 1/2025 \nOre 10\,45 – UN’ANALISI DEI FENOMENI SALIENTI\nModera Gian Carlo Blangiardo – Professore emerito Università Milano Biococca \nLo scenario internazionale\nDinamiche globali: domani è già oggi\nFrancesco Billari – Magnifico Rettore Università Bocconi \nIl declino demografico italiano e le sue ripercussioni sugli equilibri geopolitici mondiali\nAlfonso Giordano – Università LUISS Guido Carli \nDemografia\, lavoro e welfare: un Paese a rischio? \nCome cambiano in Italia l’offerta di lavoro e i rapporti tra generazioni\nAlessandro Rosina – Università Cattolica del Sacro Cuore – Milano \nIl welfare italiano davanti all’incremento della popolazione anziana non autosufficiente\nCristiano Gori – Università di Trento \nMobilità internazionale e dinamica dei fenomeni migratori\nCorrado Bonifazi – CNR-IRPPS \nOre 12\,15 – INTERVENTI ISTITUZIONALI\nElena Bonetti – Presidente Commissione sugli effetti economici e sociali derivanti dalla transizione demografica\, Camera dei Deputati\nMarco Fioravanti – Presidente Consiglio Nazionale ANCI \nOre 12\,45 – INTERVENTO CONCLUSIVO\nEugenia Roccella – Ministra per la Famiglia\, la Natalità e le Pari Opportunità.
URL:https://www.ildiariodellavoro.it/evento/il-cambiamento-demografico-nella-realta-italiana-prospettive-cause-e-conseguenze/
CATEGORIES:Convegno
END:VEVENT
END:VCALENDAR