BEGIN:VCALENDAR
VERSION:2.0
PRODID:-//Il Diario del Lavoro - ECPv6.15.11//NONSGML v1.0//EN
CALSCALE:GREGORIAN
METHOD:PUBLISH
X-ORIGINAL-URL:https://www.ildiariodellavoro.it
X-WR-CALDESC:Eventi per Il Diario del Lavoro
REFRESH-INTERVAL;VALUE=DURATION:PT1H
X-Robots-Tag:noindex
X-PUBLISHED-TTL:PT1H
BEGIN:VTIMEZONE
TZID:Europe/Rome
BEGIN:DAYLIGHT
TZOFFSETFROM:+0100
TZOFFSETTO:+0200
TZNAME:CEST
DTSTART:20240331T010000
END:DAYLIGHT
BEGIN:STANDARD
TZOFFSETFROM:+0200
TZOFFSETTO:+0100
TZNAME:CET
DTSTART:20241027T010000
END:STANDARD
BEGIN:DAYLIGHT
TZOFFSETFROM:+0100
TZOFFSETTO:+0200
TZNAME:CEST
DTSTART:20250330T010000
END:DAYLIGHT
BEGIN:STANDARD
TZOFFSETFROM:+0200
TZOFFSETTO:+0100
TZNAME:CET
DTSTART:20251026T010000
END:STANDARD
BEGIN:DAYLIGHT
TZOFFSETFROM:+0100
TZOFFSETTO:+0200
TZNAME:CEST
DTSTART:20260329T010000
END:DAYLIGHT
BEGIN:STANDARD
TZOFFSETFROM:+0200
TZOFFSETTO:+0100
TZNAME:CET
DTSTART:20261025T010000
END:STANDARD
END:VTIMEZONE
BEGIN:VEVENT
DTSTART;TZID=Europe/Rome:20250708T110000
DTEND;TZID=Europe/Rome:20250708T110000
DTSTAMP:20260424T065854
CREATED:20250707T092647Z
LAST-MODIFIED:20250708T073528Z
UID:10000756-1751972400-1751972400@www.ildiariodellavoro.it
SUMMARY:LE COOPERATIVE DEL SOLE UN’OPPORTUNITÀ PER I CONSUMATORI
DESCRIPTION:LE COOPERATIVE DEL SOLE UN’OPPORTUNITÀ PER I CONSUMATORI \n8 luglio 2025 – Cnel – 00  Viale David Lubin\, 2 – Sala Meuccio Ruini – ore 11\,00 – Roma \nPaolo PIRANI – Coordinatore Forum per la diffusione della cultura del consumo responsabile e sostenibile CNEL – Presentazione dell’evento \nCarlo DE MASI – Presidente Adiconsum – Introduzione \nDott. Massimo PALLOTTINO – Caritas Italiana\n \nProf. Leonardo BECCHETTI – Ordinario Roma Torvergata – CER\, CERS\, Energia condivisa. \nDifferenze e applicazioni  \nProf. Livio DE SANTOLI – Prorettore della Sapienza – Le CER per la transizione energetica e ambientale \nGiorgio NANNI – Ufficio Ambiente ed Energia Legacoop   \nAndrea FERRANTE – CER Cooperativa Amerina Forre – Presentazione di una CER attiva nel settore agricole \nMauro A. GUARINI – Vicepresidente CER Cooperativa Part-energy – CER Nazionale \nNicoletta GOZO – Osservatorio CER – Enea  \nSergio OLIVERO – Politecnico di Torino – Le sinergie fra le CER verso le Virtual Energy Company: CONCERNET   \nSilvia CHIASSAI MARTINI – Presidente Fondazione CER Italia\, Sindaco Montevarchi  \nGiammario BORRONI – Sindaco di Monte Rinaldo (FM) e Barbara TOCE – Presidente Associazione Giovanni Battista Carducci di Fermo. L’importanza delle CER nei luoghi del sisma del Centro Italia – il ruolo delle Associazioni del territorio.
URL:https://www.ildiariodellavoro.it/evento/le-cooperative-del-sole-unopportunita-per-i-consumatori/
CATEGORIES:Convegno
END:VEVENT
END:VCALENDAR