BEGIN:VCALENDAR
VERSION:2.0
PRODID:-//Il Diario del Lavoro - ECPv6.15.11//NONSGML v1.0//EN
CALSCALE:GREGORIAN
METHOD:PUBLISH
X-WR-CALNAME:Il Diario del Lavoro
X-ORIGINAL-URL:https://www.ildiariodellavoro.it
X-WR-CALDESC:Eventi per Il Diario del Lavoro
REFRESH-INTERVAL;VALUE=DURATION:PT1H
X-Robots-Tag:noindex
X-PUBLISHED-TTL:PT1H
BEGIN:VTIMEZONE
TZID:Europe/Rome
BEGIN:DAYLIGHT
TZOFFSETFROM:+0100
TZOFFSETTO:+0200
TZNAME:CEST
DTSTART:20240331T010000
END:DAYLIGHT
BEGIN:STANDARD
TZOFFSETFROM:+0200
TZOFFSETTO:+0100
TZNAME:CET
DTSTART:20241027T010000
END:STANDARD
BEGIN:DAYLIGHT
TZOFFSETFROM:+0100
TZOFFSETTO:+0200
TZNAME:CEST
DTSTART:20250330T010000
END:DAYLIGHT
BEGIN:STANDARD
TZOFFSETFROM:+0200
TZOFFSETTO:+0100
TZNAME:CET
DTSTART:20251026T010000
END:STANDARD
BEGIN:DAYLIGHT
TZOFFSETFROM:+0100
TZOFFSETTO:+0200
TZNAME:CEST
DTSTART:20260329T010000
END:DAYLIGHT
BEGIN:STANDARD
TZOFFSETFROM:+0200
TZOFFSETTO:+0100
TZNAME:CET
DTSTART:20261025T010000
END:STANDARD
END:VTIMEZONE
BEGIN:VEVENT
DTSTART;TZID=Europe/Rome:20250912T093000
DTEND;TZID=Europe/Rome:20250912T093000
DTSTAMP:20260424T041611
CREATED:20250829T072651Z
LAST-MODIFIED:20250829T072659Z
UID:10000787-1757669400-1757669400@www.ildiariodellavoro.it
SUMMARY:LEGALITA’ SICUREZZA GIUSTIZIA – LA VIA COSTITUZIONALE
DESCRIPTION:LEGALITA’ SICUREZZA GIUSTIZIA – LA VIA COSTITUZIONALE \n12 settembre 2025 – presso l’Auditorium Biagi sala Borsa – diretta streaming su Collettiva.it – Bologna – ore 9\,30 \nNell’ambito della IX edizione del Conferimento premio Pio La Torre\, si tiene a Bologna il Convegno “Legalità\, Sicurezza\, Giustizia. La Via Costituzionale”. \nPartecipano: Rosy Bindi; Alessandra Costante\, Segretario Nazionale della Federazione Nazionale della Stampa; Maurizio Landini\, Segretario generale CGIL; Rocco Mariuotti\, Segretario ANM; Roberto Montà\, Presidente Avviso Pubblico. \nCoordina l’evento: Stefania Pellegrini\, Direttrice SS “Lavoro e Legalità”
URL:https://www.ildiariodellavoro.it/evento/legalita-sicurezza-giustizia-la-via-costituzionale/
CATEGORIES:Convegno
ATTACH;FMTTYPE=image/webp:https://www.ildiariodellavoro.it/wp-content/uploads/2025/08/loc-a4_legalita_sicurezza_2025_page-0001-jpg.webp
END:VEVENT
END:VCALENDAR