BEGIN:VCALENDAR
VERSION:2.0
PRODID:-//Il Diario del Lavoro - ECPv6.15.11//NONSGML v1.0//EN
CALSCALE:GREGORIAN
METHOD:PUBLISH
X-ORIGINAL-URL:https://www.ildiariodellavoro.it
X-WR-CALDESC:Eventi per Il Diario del Lavoro
REFRESH-INTERVAL;VALUE=DURATION:PT1H
X-Robots-Tag:noindex
X-PUBLISHED-TTL:PT1H
BEGIN:VTIMEZONE
TZID:Europe/Rome
BEGIN:DAYLIGHT
TZOFFSETFROM:+0100
TZOFFSETTO:+0200
TZNAME:CEST
DTSTART:20240331T010000
END:DAYLIGHT
BEGIN:STANDARD
TZOFFSETFROM:+0200
TZOFFSETTO:+0100
TZNAME:CET
DTSTART:20241027T010000
END:STANDARD
BEGIN:DAYLIGHT
TZOFFSETFROM:+0100
TZOFFSETTO:+0200
TZNAME:CEST
DTSTART:20250330T010000
END:DAYLIGHT
BEGIN:STANDARD
TZOFFSETFROM:+0200
TZOFFSETTO:+0100
TZNAME:CET
DTSTART:20251026T010000
END:STANDARD
BEGIN:DAYLIGHT
TZOFFSETFROM:+0100
TZOFFSETTO:+0200
TZNAME:CEST
DTSTART:20260329T010000
END:DAYLIGHT
BEGIN:STANDARD
TZOFFSETFROM:+0200
TZOFFSETTO:+0100
TZNAME:CET
DTSTART:20261025T010000
END:STANDARD
END:VTIMEZONE
BEGIN:VEVENT
DTSTART;TZID=Europe/Rome:20251105T143000
DTEND;TZID=Europe/Rome:20251105T183000
DTSTAMP:20260424T012448
CREATED:20251015T080157Z
LAST-MODIFIED:20251015T084815Z
UID:10000880-1762353000-1762367400@www.ildiariodellavoro.it
SUMMARY:EVOLUZIONE DELLE COMUNICAZIONI A DISTANZA TRA GLI ESSERI UMANI: INVENTIVA TECNOLOGICA\, SICUREZZA GLOBALE E SCELTE ECONOMICO-SOCIALI
DESCRIPTION:EVOLUZIONE DELLE COMUNICAZIONI A DISTANZA TRA GLI ESSERI UMANI: INVENTIVA TECNOLOGICA\, SICUREZZA GLOBALE E SCELTE ECONOMICO-SOCIALI \n5 novembre 2025 – Fondazione Aldini Valeriani – Via S. Bassanelli\, 9/11 – dalle ore 14\,30 alle ore 18\,30 – Bologna
URL:https://www.ildiariodellavoro.it/evento/evoluzione-delle-comunicazioni-a-distanza-tra-gli-esseri-umani-inventiva-tecnologica-sicurezza-globale-e-scelte-economicosociali/
CATEGORIES:Convegno
ATTACH;FMTTYPE=image/jpeg:https://www.ildiariodellavoro.it/wp-content/uploads/2025/10/Convegno_TLC_Federmanager_Bologna_05_11_25_rev_14_pages-to-jpg-0001.jpg
END:VEVENT
END:VCALENDAR