BEGIN:VCALENDAR
VERSION:2.0
PRODID:-//Il Diario del Lavoro - ECPv6.15.11//NONSGML v1.0//EN
CALSCALE:GREGORIAN
METHOD:PUBLISH
X-WR-CALNAME:Il Diario del Lavoro
X-ORIGINAL-URL:https://www.ildiariodellavoro.it
X-WR-CALDESC:Eventi per Il Diario del Lavoro
REFRESH-INTERVAL;VALUE=DURATION:PT1H
X-Robots-Tag:noindex
X-PUBLISHED-TTL:PT1H
BEGIN:VTIMEZONE
TZID:Europe/Rome
BEGIN:DAYLIGHT
TZOFFSETFROM:+0100
TZOFFSETTO:+0200
TZNAME:CEST
DTSTART:20240331T010000
END:DAYLIGHT
BEGIN:STANDARD
TZOFFSETFROM:+0200
TZOFFSETTO:+0100
TZNAME:CET
DTSTART:20241027T010000
END:STANDARD
BEGIN:DAYLIGHT
TZOFFSETFROM:+0100
TZOFFSETTO:+0200
TZNAME:CEST
DTSTART:20250330T010000
END:DAYLIGHT
BEGIN:STANDARD
TZOFFSETFROM:+0200
TZOFFSETTO:+0100
TZNAME:CET
DTSTART:20251026T010000
END:STANDARD
BEGIN:DAYLIGHT
TZOFFSETFROM:+0100
TZOFFSETTO:+0200
TZNAME:CEST
DTSTART:20260329T010000
END:DAYLIGHT
BEGIN:STANDARD
TZOFFSETFROM:+0200
TZOFFSETTO:+0100
TZNAME:CET
DTSTART:20261025T010000
END:STANDARD
END:VTIMEZONE
BEGIN:VEVENT
DTSTART;TZID=Europe/Rome:20251121T093000
DTEND;TZID=Europe/Rome:20251121T093000
DTSTAMP:20260424T012216
CREATED:20251104T075532Z
LAST-MODIFIED:20251104T075542Z
UID:10000918-1763717400-1763717400@www.ildiariodellavoro.it
SUMMARY:DEMOCRAZIA SINDACALE\, RAPPRESENTANZA E CONFLITTO: SOGGETTI\, REGOLE\, PROBLEMI
DESCRIPTION:DEMOCRAZIA SINDACALE\, RAPPRESENTANZA E CONFLITTO: SOGGETTI\, REGOLE\, PROBLEMI \n21 novembre 2025 – presso la sala G Di Vittorio della Cgil nazionale  – Corso d’Italia\, 25 – ore 9.30- Roma \nIl segretario generale della Cgil Maurizio Landini concluderà il convegno ‘Democrazia sindacale\, rappresentanza e conflitto: soggetti\, regole\, problemi’ promosso dalla Rivista Giuridica del Lavoro.
URL:https://www.ildiariodellavoro.it/evento/democrazia-sindacale-rappresentanza-e-conflitto-soggetti-regole-problemi/
CATEGORIES:Convegno
ATTACH;FMTTYPE=image/webp:https://www.ildiariodellavoro.it/wp-content/uploads/2025/11/rgl-lavoro-democrazia-roma-21-11-25_locandina_page-0001-jpg.webp
END:VEVENT
END:VCALENDAR