BEGIN:VCALENDAR
VERSION:2.0
PRODID:-//Il Diario del Lavoro - ECPv6.15.11//NONSGML v1.0//EN
CALSCALE:GREGORIAN
METHOD:PUBLISH
X-WR-CALNAME:Il Diario del Lavoro
X-ORIGINAL-URL:https://www.ildiariodellavoro.it
X-WR-CALDESC:Eventi per Il Diario del Lavoro
REFRESH-INTERVAL;VALUE=DURATION:PT1H
X-Robots-Tag:noindex
X-PUBLISHED-TTL:PT1H
BEGIN:VTIMEZONE
TZID:Europe/Rome
BEGIN:DAYLIGHT
TZOFFSETFROM:+0100
TZOFFSETTO:+0200
TZNAME:CEST
DTSTART:20240331T010000
END:DAYLIGHT
BEGIN:STANDARD
TZOFFSETFROM:+0200
TZOFFSETTO:+0100
TZNAME:CET
DTSTART:20241027T010000
END:STANDARD
BEGIN:DAYLIGHT
TZOFFSETFROM:+0100
TZOFFSETTO:+0200
TZNAME:CEST
DTSTART:20250330T010000
END:DAYLIGHT
BEGIN:STANDARD
TZOFFSETFROM:+0200
TZOFFSETTO:+0100
TZNAME:CET
DTSTART:20251026T010000
END:STANDARD
BEGIN:DAYLIGHT
TZOFFSETFROM:+0100
TZOFFSETTO:+0200
TZNAME:CEST
DTSTART:20260329T010000
END:DAYLIGHT
BEGIN:STANDARD
TZOFFSETFROM:+0200
TZOFFSETTO:+0100
TZNAME:CET
DTSTART:20261025T010000
END:STANDARD
END:VTIMEZONE
BEGIN:VEVENT
DTSTART;TZID=Europe/Rome:20251216T100000
DTEND;TZID=Europe/Rome:20251216T100000
DTSTAMP:20260423T233149
CREATED:20251211T080254Z
LAST-MODIFIED:20251215T114122Z
UID:10001005-1765879200-1765879200@www.ildiariodellavoro.it
SUMMARY:NO ALLO SFRUTTAMENTO\, SI ALLA QUALITA’ DELLA MODA”
DESCRIPTION:NO ALLO SFRUTTAMENTO\, SI ALLA QUALITA’ DELLA MODA”\nCONVEGNO CGIL-FILTCEM IN PARALLELO CON LA DISCUSSIONE A MONTECITORIO PER L’APPROVAZIONE DELLA CONTESTATA LEGGE SULLE PMI \n16 dicembre 2025 – presso la sede della Camera di Commercio  – Via del Romito\, 71 – dalle ore 10\,00 – Prato \nConvegno di Cgil e Filctem Cgil per dire no alla “proposta di legge per le PMI che prevede l’esclusione delle grandi aziende committenti del settore moda da possibili responsabilità organizzative e di omesso controllo in caso di lavoro e sfruttamento lungo la filiera”. \nConvegno dal titolo  “No allo sfruttamento\, sì alla qualità del sistema moda” voluto dalla Cgil e Filctem Cgil. \nAll’iniziativa interverranno i parlamentari:\nAnnamaria Furlan (Italia Viva)\, Maria Cecilia Guerra (Partito Democratico) e Marco Grimaldi (Alleanza Verdi Sinistra). \nPer la Filctem Cgil il segretario generale Marco Falcinelli e la segretaria nazionale Cinzia Maiolini. \nPrenderanno\, inoltre\, la parola il presidente di Confartigianato Moda\, Moreno Vignolini\, Antonio Franceschini\, responsabile nazionale CNA Federmoda\, Gessica Beneforti e Daniele Gioffredi\, rispettivamente segretaria CGIL Toscana e segretario generale CGIL Prato-Pistoia. \nL’evento si svolgerà in contemporanea alla discussione per l’approvazione alla Camera dei Deputati della proposta di legge per le PMI che prevede l’esclusione delle grandi aziende committenti del settore moda da possibili responsabilità organizzative e di omesso controllo in caso di lavoro e sfruttamento lungo la filiera. \nIl convegno sarà l’occasione per ribadire\, come fatto nelle diverse sedi parlamentari e nei confronti del Governo\, la richiesta di ritiro delle norme proposte\, in particolare dello scudo per i committenti di cui all’articolo 30 della proposta di legge per le PMI\, e l’apertura di un tavolo di confronto tra tutte le parti sociali per definire specifici interventi\, anche di carattere preventivo\, per contrastare le varie forme di sfruttamento in appalti e forniture del sistema moda\, che anche recentemente sono emerse da alcune inchieste della magistratura lungo le filiere produttive.
URL:https://www.ildiariodellavoro.it/evento/no-allo-sfruttamento-si-alla-qualita-della-moda/
CATEGORIES:Convegno
ATTACH;FMTTYPE=image/jpeg:https://www.ildiariodellavoro.it/wp-content/uploads/2025/12/Moda_Iniziativa-a-Prato-del-16-dicembre_page-0001.jpg
END:VEVENT
END:VCALENDAR