BEGIN:VCALENDAR
VERSION:2.0
PRODID:-//Il Diario del Lavoro - ECPv6.15.11//NONSGML v1.0//EN
CALSCALE:GREGORIAN
METHOD:PUBLISH
X-ORIGINAL-URL:https://www.ildiariodellavoro.it
X-WR-CALDESC:Eventi per Il Diario del Lavoro
REFRESH-INTERVAL;VALUE=DURATION:PT1H
X-Robots-Tag:noindex
X-PUBLISHED-TTL:PT1H
BEGIN:VTIMEZONE
TZID:Europe/Rome
BEGIN:DAYLIGHT
TZOFFSETFROM:+0100
TZOFFSETTO:+0200
TZNAME:CEST
DTSTART:20240331T010000
END:DAYLIGHT
BEGIN:STANDARD
TZOFFSETFROM:+0200
TZOFFSETTO:+0100
TZNAME:CET
DTSTART:20241027T010000
END:STANDARD
BEGIN:DAYLIGHT
TZOFFSETFROM:+0100
TZOFFSETTO:+0200
TZNAME:CEST
DTSTART:20250330T010000
END:DAYLIGHT
BEGIN:STANDARD
TZOFFSETFROM:+0200
TZOFFSETTO:+0100
TZNAME:CET
DTSTART:20251026T010000
END:STANDARD
BEGIN:DAYLIGHT
TZOFFSETFROM:+0100
TZOFFSETTO:+0200
TZNAME:CEST
DTSTART:20260329T010000
END:DAYLIGHT
BEGIN:STANDARD
TZOFFSETFROM:+0200
TZOFFSETTO:+0100
TZNAME:CET
DTSTART:20261025T010000
END:STANDARD
END:VTIMEZONE
BEGIN:VEVENT
DTSTART;TZID=Europe/Rome:20251219T100000
DTEND;TZID=Europe/Rome:20251219T100000
DTSTAMP:20260423T233245
CREATED:20251212T164005Z
LAST-MODIFIED:20251212T164028Z
UID:10001007-1766138400-1766138400@www.ildiariodellavoro.it
SUMMARY:CONVEGNO: “LA DOTTORA DEI POVERI” PREMIO ANNA KULISCIOFF 2025
DESCRIPTION:CONVEGNO: “LA DOTTORA DEI POVERI” PREMIO ANNA KULISCIOFF 2025 \n19 dicembre 2025 – presso la  sala 113 dell’Università degli Studi di Milano – via Festa del Perdono\, 3 – ore 10\,00 – Milano
URL:https://www.ildiariodellavoro.it/evento/convegno-la-dottora-dei-poveri-premio-anna-kuliscioff-2025/
CATEGORIES:Convegno
ATTACH;FMTTYPE=image/jpeg:https://www.ildiariodellavoro.it/wp-content/uploads/2025/12/Locandine-A3-Anna-Universita-di-Milano-scaled.jpg
END:VEVENT
END:VCALENDAR