BEGIN:VCALENDAR
VERSION:2.0
PRODID:-//Il Diario del Lavoro - ECPv6.15.11//NONSGML v1.0//EN
CALSCALE:GREGORIAN
METHOD:PUBLISH
X-ORIGINAL-URL:https://www.ildiariodellavoro.it
X-WR-CALDESC:Eventi per Il Diario del Lavoro
REFRESH-INTERVAL;VALUE=DURATION:PT1H
X-Robots-Tag:noindex
X-PUBLISHED-TTL:PT1H
BEGIN:VTIMEZONE
TZID:Europe/Rome
BEGIN:DAYLIGHT
TZOFFSETFROM:+0100
TZOFFSETTO:+0200
TZNAME:CEST
DTSTART:20240331T010000
END:DAYLIGHT
BEGIN:STANDARD
TZOFFSETFROM:+0200
TZOFFSETTO:+0100
TZNAME:CET
DTSTART:20241027T010000
END:STANDARD
BEGIN:DAYLIGHT
TZOFFSETFROM:+0100
TZOFFSETTO:+0200
TZNAME:CEST
DTSTART:20250330T010000
END:DAYLIGHT
BEGIN:STANDARD
TZOFFSETFROM:+0200
TZOFFSETTO:+0100
TZNAME:CET
DTSTART:20251026T010000
END:STANDARD
BEGIN:DAYLIGHT
TZOFFSETFROM:+0100
TZOFFSETTO:+0200
TZNAME:CEST
DTSTART:20260329T010000
END:DAYLIGHT
BEGIN:STANDARD
TZOFFSETFROM:+0200
TZOFFSETTO:+0100
TZNAME:CET
DTSTART:20261025T010000
END:STANDARD
END:VTIMEZONE
BEGIN:VEVENT
DTSTART;TZID=Europe/Rome:20251205T093000
DTEND;TZID=Europe/Rome:20251205T163000
DTSTAMP:20260422T174458
CREATED:20251201T084952Z
LAST-MODIFIED:20251201T103352Z
UID:10000975-1764927000-1764952200@www.ildiariodellavoro.it
SUMMARY:GRAMSCI A MILANO 1921-1926. PARTITO E SINDACATO NELLA CAPITALE ECONOMICA
DESCRIPTION:GRAMSCI A MILANO 1921-1926. PARTITO E SINDACATO NELLA CAPITALE ECONOMICA \n5 dicembre 2025 – Sala Buozzi – Camera del Lavoro di Milano – dalle ore 9\,30 alle ore 16\,30 – Milano \n 
URL:https://www.ildiariodellavoro.it/evento/gramsci-a-milano-1921-1926-partito-e-sindacato-nella-capitale-economica/
CATEGORIES:Giornata di studio
ATTACH;FMTTYPE=image/jpeg:https://www.ildiariodellavoro.it/wp-content/uploads/2025/12/Gramsci_invito_m1.7_page-0001.jpg
END:VEVENT
END:VCALENDAR