BEGIN:VCALENDAR
VERSION:2.0
PRODID:-//Il Diario del Lavoro - ECPv6.15.11//NONSGML v1.0//EN
CALSCALE:GREGORIAN
METHOD:PUBLISH
X-WR-CALNAME:Il Diario del Lavoro
X-ORIGINAL-URL:https://www.ildiariodellavoro.it
X-WR-CALDESC:Eventi per Il Diario del Lavoro
REFRESH-INTERVAL;VALUE=DURATION:PT1H
X-Robots-Tag:noindex
X-PUBLISHED-TTL:PT1H
BEGIN:VTIMEZONE
TZID:Europe/Rome
BEGIN:DAYLIGHT
TZOFFSETFROM:+0100
TZOFFSETTO:+0200
TZNAME:CEST
DTSTART:20250330T010000
END:DAYLIGHT
BEGIN:STANDARD
TZOFFSETFROM:+0200
TZOFFSETTO:+0100
TZNAME:CET
DTSTART:20251026T010000
END:STANDARD
BEGIN:DAYLIGHT
TZOFFSETFROM:+0100
TZOFFSETTO:+0200
TZNAME:CEST
DTSTART:20260329T010000
END:DAYLIGHT
BEGIN:STANDARD
TZOFFSETFROM:+0200
TZOFFSETTO:+0100
TZNAME:CET
DTSTART:20261025T010000
END:STANDARD
BEGIN:DAYLIGHT
TZOFFSETFROM:+0100
TZOFFSETTO:+0200
TZNAME:CEST
DTSTART:20270328T010000
END:DAYLIGHT
BEGIN:STANDARD
TZOFFSETFROM:+0200
TZOFFSETTO:+0100
TZNAME:CET
DTSTART:20271031T010000
END:STANDARD
END:VTIMEZONE
BEGIN:VEVENT
DTSTART;TZID=Europe/Rome:20260321T090000
DTEND;TZID=Europe/Rome:20260321T090000
DTSTAMP:20260423T173925
CREATED:20260303T141721Z
LAST-MODIFIED:20260303T141731Z
UID:10001103-1774083600-1774083600@www.ildiariodellavoro.it
SUMMARY:MARCIA PER LA 31° GIORNATA DELLA MEMORIA E DELL’IMPEGNO
DESCRIPTION:MARCIA PER LA 31° GIORNATA DELLA MEMORIA E DELL’IMPEGNO \n21 marzo 2026 – Torino – Ore 9\,00 \nIl segretario generale della Cgil Maurizio Landini in occasione della Giornata nazionale in ricordo delle vittime innocenti delle mafie parteciperà alla marcia che si terrà a Torino promossa da Libera. Appuntamento sabato 21 marzo in Piazza Solferino alle ore 8.30\, partenza corteo alle ore 9.00\, arrivo in Piazza Vittorio. \n 
URL:https://www.ildiariodellavoro.it/evento/marcia-per-la-31-giornata-della-memoria-e-dellimpegno/
CATEGORIES:Giornata Nazionale
ATTACH;FMTTYPE=image/webp:https://www.ildiariodellavoro.it/wp-content/uploads/2026/03/immagine-2026-03-03-145140-jpg.webp
END:VEVENT
END:VCALENDAR