BEGIN:VCALENDAR
VERSION:2.0
PRODID:-//Il Diario del Lavoro - ECPv6.15.11//NONSGML v1.0//EN
CALSCALE:GREGORIAN
METHOD:PUBLISH
X-WR-CALNAME:Il Diario del Lavoro
X-ORIGINAL-URL:https://www.ildiariodellavoro.it
X-WR-CALDESC:Eventi per Il Diario del Lavoro
REFRESH-INTERVAL;VALUE=DURATION:PT1H
X-Robots-Tag:noindex
X-PUBLISHED-TTL:PT1H
BEGIN:VTIMEZONE
TZID:Europe/Rome
BEGIN:DAYLIGHT
TZOFFSETFROM:+0100
TZOFFSETTO:+0200
TZNAME:CEST
DTSTART:20240331T010000
END:DAYLIGHT
BEGIN:STANDARD
TZOFFSETFROM:+0200
TZOFFSETTO:+0100
TZNAME:CET
DTSTART:20241027T010000
END:STANDARD
BEGIN:DAYLIGHT
TZOFFSETFROM:+0100
TZOFFSETTO:+0200
TZNAME:CEST
DTSTART:20250330T010000
END:DAYLIGHT
BEGIN:STANDARD
TZOFFSETFROM:+0200
TZOFFSETTO:+0100
TZNAME:CET
DTSTART:20251026T010000
END:STANDARD
BEGIN:DAYLIGHT
TZOFFSETFROM:+0100
TZOFFSETTO:+0200
TZNAME:CEST
DTSTART:20260329T010000
END:DAYLIGHT
BEGIN:STANDARD
TZOFFSETFROM:+0200
TZOFFSETTO:+0100
TZNAME:CET
DTSTART:20261025T010000
END:STANDARD
END:VTIMEZONE
BEGIN:VEVENT
DTSTART;TZID=Europe/Rome:20250310T150000
DTEND;TZID=Europe/Rome:20250310T150000
DTSTAMP:20260426T001042
CREATED:20250306T091503Z
LAST-MODIFIED:20250306T101032Z
UID:10000472-1741618800-1741618800@www.ildiariodellavoro.it
SUMMARY:CONFERENZA STAMPA LANDINI E MAGI SU REFERENDUM LAVORO E CITTADINANZA
DESCRIPTION:CONFERENZA STAMPA LANDINI E MAGI SU REFERENDUM LAVORO E CITTADINANZA \n10 marzo 2025 – presso la sede della Stampa Estera – Via del Plebiscito\, 102 – ore 15.00 – Roma \nIl segretario generale della Cgil Maurizio Landini per il Comitato referendum sul lavoro\, e il segretario di +Europa Riccardo Magi\, presidente del Comitato promotore del referendum sulla cittadinanza\, alla vigilia dell’incontro a palazzo Chigi terranno una conferenza stampa per ribadire l’urgenza di azioni volte a garantire la massima informazione e partecipazione dei cittadini al voto referendario della prossima primavera\, così come già richiesto da Landini e Magi in una lettera inviata il 15 febbraio scorso alla Presidente del Consiglio dei ministri\, Giorgia Meloni\, nella quale si faceva richiesta formale di incontro. \n 
URL:https://www.ildiariodellavoro.it/evento/conferenza-stampa-landini-e-magi-su-referendum-lavoro-e-cittadinanza/
CATEGORIES:Incontro
ATTACH;FMTTYPE=image/webp:https://www.ildiariodellavoro.it/wp-content/uploads/2025/03/stampa-estera-jpg.webp
END:VEVENT
BEGIN:VEVENT
DTSTART;TZID=Europe/Rome:20250311T153000
DTEND;TZID=Europe/Rome:20250311T153000
DTSTAMP:20260426T001042
CREATED:20250305T122059Z
LAST-MODIFIED:20250305T122107Z
UID:10000468-1741707000-1741707000@www.ildiariodellavoro.it
SUMMARY:INCONTRO A PALAZZO CHIGI SU REFERENDUM SUL LAVORO E SULLA CITTADINANZA
DESCRIPTION:INCONTRO A PALAZZO CHIGI SU REFERENDUM SUL LAVORO E SULLA CITTADINANZA \n11 marzo 2025 – presso la Sala Arazzi di Palazzo Chigi – ore 15.30 – Roma \nIl segretario generale della Cgil Maurizio Landini e il segretario confederale Luigi Giove parteciperanno all’incontro con i rappresentanti del governo in merito ai Referendum sul Lavoro e sulla Cittadinanza in programma per martedì 11 marzo.
URL:https://www.ildiariodellavoro.it/evento/incontro-a-palazzo-chigi-su-referendum-sul-lavoro-e-sulla-cittadinanza/
CATEGORIES:Incontro
ATTACH;FMTTYPE=image/webp:https://www.ildiariodellavoro.it/wp-content/uploads/2025/03/palazzo-chigi-marco-merlini-roma-13-gennaio-2021-palazzo-chigi.webp
END:VEVENT
BEGIN:VEVENT
DTSTART;TZID=Europe/Rome:20250326T170000
DTEND;TZID=Europe/Rome:20250326T170000
DTSTAMP:20260426T001042
CREATED:20250321T172908Z
LAST-MODIFIED:20250321T172921Z
UID:10000492-1743008400-1743008400@www.ildiariodellavoro.it
SUMMARY:INCONTRO CON CAPIGRUPPO E PARLAMENTARI PD DI CAMERA E SENATO SULLA CHIMICA DI BASE
DESCRIPTION:INCONTRO CON CAPIGRUPPO E PARLAMENTARI PD DI CAMERA E SENATO SULLA CHIMICA DI BASE \n26 marzo 2025 – presso gruppo PD Camera – Sala Berlinguer in Via Uffici del Vicario\, 21 – Roma – ore 17.00 \nIl segretario confederale della Cgil Giuseppe Gesmundo parteciperà all’incontro con capigruppo e parlamentari Pd di Camera e Senato sulla chimica di base in programma per mercoledì 26 marzo.
URL:https://www.ildiariodellavoro.it/evento/incontro-con-capigruppo-e-parlamentari-pd-di-camera-e-senato-sulla-chimica-di-base/
CATEGORIES:Incontro
ATTACH;FMTTYPE=image/webp:https://www.ildiariodellavoro.it/wp-content/uploads/2025/03/manifestazione-eni-e-saipem-marco-merlini-cgil-s-donato-milanese-17-dicembre-2015-manifestazione-presidio-nazionale-dei-lavoratori-del-gruppo-eni-e-della-societa-saipem-davanti-alla-sede-eni.webp
END:VEVENT
END:VCALENDAR