BEGIN:VCALENDAR
VERSION:2.0
PRODID:-//Il Diario del Lavoro - ECPv6.15.11//NONSGML v1.0//EN
CALSCALE:GREGORIAN
METHOD:PUBLISH
X-ORIGINAL-URL:https://www.ildiariodellavoro.it
X-WR-CALDESC:Eventi per Il Diario del Lavoro
REFRESH-INTERVAL;VALUE=DURATION:PT1H
X-Robots-Tag:noindex
X-PUBLISHED-TTL:PT1H
BEGIN:VTIMEZONE
TZID:Europe/Rome
BEGIN:DAYLIGHT
TZOFFSETFROM:+0100
TZOFFSETTO:+0200
TZNAME:CEST
DTSTART:20240331T010000
END:DAYLIGHT
BEGIN:STANDARD
TZOFFSETFROM:+0200
TZOFFSETTO:+0100
TZNAME:CET
DTSTART:20241027T010000
END:STANDARD
BEGIN:DAYLIGHT
TZOFFSETFROM:+0100
TZOFFSETTO:+0200
TZNAME:CEST
DTSTART:20250330T010000
END:DAYLIGHT
BEGIN:STANDARD
TZOFFSETFROM:+0200
TZOFFSETTO:+0100
TZNAME:CET
DTSTART:20251026T010000
END:STANDARD
BEGIN:DAYLIGHT
TZOFFSETFROM:+0100
TZOFFSETTO:+0200
TZNAME:CEST
DTSTART:20260329T010000
END:DAYLIGHT
BEGIN:STANDARD
TZOFFSETFROM:+0200
TZOFFSETTO:+0100
TZNAME:CET
DTSTART:20261025T010000
END:STANDARD
END:VTIMEZONE
BEGIN:VEVENT
DTSTART;TZID=Europe/Rome:20250414T090000
DTEND;TZID=Europe/Rome:20250414T090000
DTSTAMP:20260425T225407
CREATED:20250414T074925Z
LAST-MODIFIED:20250414T075057Z
UID:10000529-1744621200-1744621200@www.ildiariodellavoro.it
SUMMARY:INCONTRO CON PD SU REFERENDUM LAVORO E CITTADINANZA
DESCRIPTION:INCONTRO CON PD SU REFERENDUM LAVORO E CITTADINANZA\n\n14 aprile 2025 – aprile presso il Nazareno – Via Sant’Andrea delle Fratte\, 16 – ore 9.30 – Roma \nIl segretario generale della Cgil Maurizio Landini parteciperà all’incontro con il gruppo Parlamentare del Pd in merito ai referendum su Lavoro e cittadinanza che si terranno l’8 e il 9 giugno 2025.
URL:https://www.ildiariodellavoro.it/evento/incontro-con-pd-su-referendum-lavoro-e-cittadinanza/
CATEGORIES:Incontro
ATTACH;FMTTYPE=image/webp:https://www.ildiariodellavoro.it/wp-content/uploads/2025/04/800x420pxl-si-vota-si-png.webp
END:VEVENT
END:VCALENDAR