BEGIN:VCALENDAR
VERSION:2.0
PRODID:-//Il Diario del Lavoro - ECPv6.15.11//NONSGML v1.0//EN
CALSCALE:GREGORIAN
METHOD:PUBLISH
X-ORIGINAL-URL:https://www.ildiariodellavoro.it
X-WR-CALDESC:Eventi per Il Diario del Lavoro
REFRESH-INTERVAL;VALUE=DURATION:PT1H
X-Robots-Tag:noindex
X-PUBLISHED-TTL:PT1H
BEGIN:VTIMEZONE
TZID:Europe/Rome
BEGIN:DAYLIGHT
TZOFFSETFROM:+0100
TZOFFSETTO:+0200
TZNAME:CEST
DTSTART:20240331T010000
END:DAYLIGHT
BEGIN:STANDARD
TZOFFSETFROM:+0200
TZOFFSETTO:+0100
TZNAME:CET
DTSTART:20241027T010000
END:STANDARD
BEGIN:DAYLIGHT
TZOFFSETFROM:+0100
TZOFFSETTO:+0200
TZNAME:CEST
DTSTART:20250330T010000
END:DAYLIGHT
BEGIN:STANDARD
TZOFFSETFROM:+0200
TZOFFSETTO:+0100
TZNAME:CET
DTSTART:20251026T010000
END:STANDARD
BEGIN:DAYLIGHT
TZOFFSETFROM:+0100
TZOFFSETTO:+0200
TZNAME:CEST
DTSTART:20260329T010000
END:DAYLIGHT
BEGIN:STANDARD
TZOFFSETFROM:+0200
TZOFFSETTO:+0100
TZNAME:CET
DTSTART:20261025T010000
END:STANDARD
END:VTIMEZONE
BEGIN:VEVENT
DTSTART;TZID=Europe/Rome:20250508T103000
DTEND;TZID=Europe/Rome:20250508T103000
DTSTAMP:20260425T230318
CREATED:20250505T135535Z
LAST-MODIFIED:20250505T135603Z
UID:10000566-1746700200-1746700200@www.ildiariodellavoro.it
SUMMARY:INCONTRO A PALAZZO CHIGI SU SALUTE E SICUREZZA SUL LAVORO
DESCRIPTION:INCONTRO A PALAZZO CHIGI SU SALUTE E SICUREZZA SUL LAVORO \n8 maggio 2025 – Palazzo Chigi – presso la sala Verde – ore 10\,30 – Roma \nE’ convocato per giovedì 8 maggio un incontro per l’illustrazione di proposte e iniziative per la salute e la sicurezza nei luoghi di lavoro. Per la Cgil saranno presenti il segretario generale Maurizio Landini e la segretaria confederale Francesca Re David. \n 
URL:https://www.ildiariodellavoro.it/evento/incontro-a-palazzo-chigi-su-salute-e-sicurezza-sul-lavoro/
CATEGORIES:Incontro
ATTACH;FMTTYPE=image/webp:https://www.ildiariodellavoro.it/wp-content/uploads/2025/05/palazzo-chigi-marco-merlini-roma-13-gennaio-2021-palazzo-chigi.webp
END:VEVENT
END:VCALENDAR