BEGIN:VCALENDAR
VERSION:2.0
PRODID:-//Il Diario del Lavoro - ECPv6.15.11//NONSGML v1.0//EN
CALSCALE:GREGORIAN
METHOD:PUBLISH
X-WR-CALNAME:Il Diario del Lavoro
X-ORIGINAL-URL:https://www.ildiariodellavoro.it
X-WR-CALDESC:Eventi per Il Diario del Lavoro
REFRESH-INTERVAL;VALUE=DURATION:PT1H
X-Robots-Tag:noindex
X-PUBLISHED-TTL:PT1H
BEGIN:VTIMEZONE
TZID:Europe/Rome
BEGIN:DAYLIGHT
TZOFFSETFROM:+0100
TZOFFSETTO:+0200
TZNAME:CEST
DTSTART:20240331T010000
END:DAYLIGHT
BEGIN:STANDARD
TZOFFSETFROM:+0200
TZOFFSETTO:+0100
TZNAME:CET
DTSTART:20241027T010000
END:STANDARD
BEGIN:DAYLIGHT
TZOFFSETFROM:+0100
TZOFFSETTO:+0200
TZNAME:CEST
DTSTART:20250330T010000
END:DAYLIGHT
BEGIN:STANDARD
TZOFFSETFROM:+0200
TZOFFSETTO:+0100
TZNAME:CET
DTSTART:20251026T010000
END:STANDARD
BEGIN:DAYLIGHT
TZOFFSETFROM:+0100
TZOFFSETTO:+0200
TZNAME:CEST
DTSTART:20260329T010000
END:DAYLIGHT
BEGIN:STANDARD
TZOFFSETFROM:+0200
TZOFFSETTO:+0100
TZNAME:CET
DTSTART:20261025T010000
END:STANDARD
END:VTIMEZONE
BEGIN:VEVENT
DTSTART;TZID=Europe/Rome:20250717T103000
DTEND;TZID=Europe/Rome:20250717T103000
DTSTAMP:20260425T202159
CREATED:20250710T115921Z
LAST-MODIFIED:20250710T120002Z
UID:10000766-1752748200-1752748200@www.ildiariodellavoro.it
SUMMARY:PER SATNAM\, PER TUTTI
DESCRIPTION:PER SATNAM\, PER TUTTI \n17 luglio 2025 – Cgil nazionale – Corso Italia\, 25 – ore 10.30 – Roma \nA un anno dalla morte di Satnam Singh\, il bracciante agricolo abbandonato a morire nelle campagne dell’Agro Pontino dopo un gravissimo incidente sul lavoro\, la Cgil promuove l’incontro ‘Per Satnam\, per tutti’\, partecipano i familiari di Satnam Singh\, conclusioni affidate al segretario generale della Cgil\, Maurizio Landini.
URL:https://www.ildiariodellavoro.it/evento/per-satnam-per-tutti/
CATEGORIES:Incontro
ATTACH;FMTTYPE=image/webp:https://www.ildiariodellavoro.it/wp-content/uploads/2025/07/satnam-jpg.webp
END:VEVENT
END:VCALENDAR