BEGIN:VCALENDAR
VERSION:2.0
PRODID:-//Il Diario del Lavoro - ECPv6.15.11//NONSGML v1.0//EN
CALSCALE:GREGORIAN
METHOD:PUBLISH
X-WR-CALNAME:Il Diario del Lavoro
X-ORIGINAL-URL:https://www.ildiariodellavoro.it
X-WR-CALDESC:Eventi per Il Diario del Lavoro
REFRESH-INTERVAL;VALUE=DURATION:PT1H
X-Robots-Tag:noindex
X-PUBLISHED-TTL:PT1H
BEGIN:VTIMEZONE
TZID:Europe/Rome
BEGIN:DAYLIGHT
TZOFFSETFROM:+0100
TZOFFSETTO:+0200
TZNAME:CEST
DTSTART:20250330T010000
END:DAYLIGHT
BEGIN:STANDARD
TZOFFSETFROM:+0200
TZOFFSETTO:+0100
TZNAME:CET
DTSTART:20251026T010000
END:STANDARD
BEGIN:DAYLIGHT
TZOFFSETFROM:+0100
TZOFFSETTO:+0200
TZNAME:CEST
DTSTART:20260329T010000
END:DAYLIGHT
BEGIN:STANDARD
TZOFFSETFROM:+0200
TZOFFSETTO:+0100
TZNAME:CET
DTSTART:20261025T010000
END:STANDARD
BEGIN:DAYLIGHT
TZOFFSETFROM:+0100
TZOFFSETTO:+0200
TZNAME:CEST
DTSTART:20270328T010000
END:DAYLIGHT
BEGIN:STANDARD
TZOFFSETFROM:+0200
TZOFFSETTO:+0100
TZNAME:CET
DTSTART:20271031T010000
END:STANDARD
END:VTIMEZONE
BEGIN:VEVENT
DTSTART;TZID=Europe/Rome:20260220T093000
DTEND;TZID=Europe/Rome:20260220T093000
DTSTAMP:20260426T013909
CREATED:20260212T174201Z
LAST-MODIFIED:20260212T174210Z
UID:10001064-1771579800-1771579800@www.ildiariodellavoro.it
SUMMARY:I MOTIVI DEL NO AL REFERENDUM COSTITUZIONALE SULLA GIUSTIZIA
DESCRIPTION:I MOTIVI DEL NO AL REFERENDUM COSTITUZIONALE SULLA GIUSTIZIA \n20 febbraio 2026 – presso il Salone degli Specchi del Palazzo della Provincia – ore 9.30 – Messina \nIl segretario confederale della Cgil Christian Ferrari concluderà l’incontro pubblico ‘I motivi del NO al referendum costituzionale sulla giustizia’ che si terrà a Messina.
URL:https://www.ildiariodellavoro.it/evento/i-motivi-del-no-al-referendum-costituzionale-sulla-giustizia/
CATEGORIES:Incontro
ATTACH;FMTTYPE=image/webp:https://www.ildiariodellavoro.it/wp-content/uploads/2026/02/messina-referendum-giustizia-jpg.webp
END:VEVENT
BEGIN:VEVENT
DTSTART;TZID=Europe/Rome:20260227T153000
DTEND;TZID=Europe/Rome:20260227T153000
DTSTAMP:20260426T013909
CREATED:20260224T082427Z
LAST-MODIFIED:20260224T082543Z
UID:10001079-1772206200-1772206200@www.ildiariodellavoro.it
SUMMARY:SANITA’ PUBBLICA\, RESPONSABILITA’ CONDIVISA PER UN BENE ESSENZIALE
DESCRIPTION:SANITA’ PUBBLICA\, RESPONSABILITA’ CONDIVISA PER UN BENE ESSENZIALE \n27 febbraio 2026 – nella Sala Convegni della Croce Verde di Fermo (Piazzale Umberto Tupini\, 6) – ore 15\,30 – Fermo \nUn momento di confronto aperto alla cittadinanza per discutere presente e futuro della sanità pubblica nel territorio fermano. È l’obiettivo dell’incontro promosso dalla Camera del Lavoro Territoriale di Fermo. \nL’appuntamento\, dal titolo “La salute è un diritto di tutti e una responsabilità collettiva”\, riunirà rappresentanti del sindacato\, della sanità locale e delle strutture regionali per analizzare criticità\, prospettive e possibili strumenti di miglioramento del sistema sanitario. L’iniziativa rientra nel percorso nazionale che porterà alla presentazione di una proposta di legge popolare sulla sanità\, attualmente in fase di elaborazione. \nA introdurre i lavori saranno Paolo Brandimarti (SPI CGIL Fermo)\, Michael Egidi (Funzione Pubblica CGIL Fermo) e Daniela Barbaresi della segreteria nazionale CGIL. Seguiranno i saluti di Maurizio Valentini\, segretario generale SPI CGIL Fermo\, e gli interventi di Alessandro De Grazia\, segretario generale della Camera del Lavoro di Fermo\, Loredana Longhin della segreteria CGIL Marche e del dott. Roberto Grinta\, direttore dell’AST di Fermo. \nL’incontro vuole offrire uno spazio di ascolto e dialogo su un tema che coinvolge l’intera comunità: l’accesso alle cure\, l’organizzazione dei servizi e la sostenibilità del sistema sanitario. Un’occasione per raccogliere punti di vista diversi e contribuire\, attraverso il confronto\, alla costruzione di proposte condivise. \nL’iniziativa è aperta a cittadini\, operatori\, associazioni e a chiunque desideri approfondire uno dei temi più rilevanti per la vita del territorio \n  \n  \n  \n 
URL:https://www.ildiariodellavoro.it/evento/sanita-pubblica-responsabilita-condivisa-per-un-bene-essenziale/
CATEGORIES:Incontro
ATTACH;FMTTYPE=image/webp:https://www.ildiariodellavoro.it/wp-content/uploads/2026/02/sanita-barbaresi-jpg.webp
END:VEVENT
BEGIN:VEVENT
DTSTART;TZID=Europe/Rome:20260408T100000
DTEND;TZID=Europe/Rome:20260408T100000
DTSTAMP:20260426T013909
CREATED:20260402T123850Z
LAST-MODIFIED:20260402T131544Z
UID:10001150-1775642400-1775642400@www.ildiariodellavoro.it
SUMMARY:VOCI DI DONNA
DESCRIPTION:VOCI DI DONNA \n8 aprile 2026 – presso la sede della Cgil Campania – via Toledo\, 353 – ore 10\,00 – Napoli \nLa segretaria confederale della Cgil Lara Ghiglione nell’ambito del ciclo di incontri con le autrici ‘Voci di Donna’ presenterà il suo libro ‘Prepotenti’.
URL:https://www.ildiariodellavoro.it/evento/voci-di-donna/
CATEGORIES:Incontro
ATTACH;FMTTYPE=image/webp:https://www.ildiariodellavoro.it/wp-content/uploads/2026/04/8_aprile_napoli-jpg.webp
END:VEVENT
BEGIN:VEVENT
DTSTART;TZID=Europe/Rome:20260414T000000
DTEND;TZID=Europe/Rome:20260417T000000
DTSTAMP:20260426T013909
CREATED:20260409T133347Z
LAST-MODIFIED:20260409T133358Z
UID:10001157-1776124800-1776384000@www.ildiariodellavoro.it
SUMMARY:MILANO CITTA’ DEI SAPERI
DESCRIPTION: MILANO CITTA’ DEI SAPERI \n14-17 aprile 2026 – Milano \n 
URL:https://www.ildiariodellavoro.it/evento/milano-citta-dei-saperi/
CATEGORIES:Incontro
ATTACH;FMTTYPE=image/jpeg:https://www.ildiariodellavoro.it/wp-content/uploads/2026/04/120_Milano-Citta-dei-Saperi_A4_Programma_v6-1_page-0001.jpg
END:VEVENT
END:VCALENDAR