BEGIN:VCALENDAR
VERSION:2.0
PRODID:-//Il Diario del Lavoro - ECPv6.15.11//NONSGML v1.0//EN
CALSCALE:GREGORIAN
METHOD:PUBLISH
X-WR-CALNAME:Il Diario del Lavoro
X-ORIGINAL-URL:https://www.ildiariodellavoro.it
X-WR-CALDESC:Eventi per Il Diario del Lavoro
REFRESH-INTERVAL;VALUE=DURATION:PT1H
X-Robots-Tag:noindex
X-PUBLISHED-TTL:PT1H
BEGIN:VTIMEZONE
TZID:Europe/Rome
BEGIN:DAYLIGHT
TZOFFSETFROM:+0100
TZOFFSETTO:+0200
TZNAME:CEST
DTSTART:20250330T010000
END:DAYLIGHT
BEGIN:STANDARD
TZOFFSETFROM:+0200
TZOFFSETTO:+0100
TZNAME:CET
DTSTART:20251026T010000
END:STANDARD
BEGIN:DAYLIGHT
TZOFFSETFROM:+0100
TZOFFSETTO:+0200
TZNAME:CEST
DTSTART:20260329T010000
END:DAYLIGHT
BEGIN:STANDARD
TZOFFSETFROM:+0200
TZOFFSETTO:+0100
TZNAME:CET
DTSTART:20261025T010000
END:STANDARD
BEGIN:DAYLIGHT
TZOFFSETFROM:+0100
TZOFFSETTO:+0200
TZNAME:CEST
DTSTART:20270328T010000
END:DAYLIGHT
BEGIN:STANDARD
TZOFFSETFROM:+0200
TZOFFSETTO:+0100
TZNAME:CET
DTSTART:20271031T010000
END:STANDARD
END:VTIMEZONE
BEGIN:VEVENT
DTSTART;TZID=Europe/Rome:20260423T103000
DTEND;TZID=Europe/Rome:20260423T140000
DTSTAMP:20260425T185624
CREATED:20260417T103300Z
LAST-MODIFIED:20260417T103311Z
UID:10001168-1776940200-1776952800@www.ildiariodellavoro.it
SUMMARY:PRESENTAZIONE DEL 3° RAPPORTO DI FONDOPROFESSIONI
DESCRIPTION:PRESENTAZIONE DEL 3° RAPPORTO DI FONDOPROFESSIONI \n23 aprile 2026 – Sala Auditorium\, Museo Macro – Via Nizza 138 – dalle ore 10.30 alle ore 14.00 – Roma
URL:https://www.ildiariodellavoro.it/evento/presentazione-del-3-rapporto-di-fondoprofessioni/
CATEGORIES:Presentazione
ATTACH;FMTTYPE=image/jpeg:https://www.ildiariodellavoro.it/wp-content/uploads/2026/04/Premio-Chirone_locandina_240326_low-1_page-0001.jpg
END:VEVENT
BEGIN:VEVENT
DTSTART;TZID=Europe/Rome:20260425T093000
DTEND;TZID=Europe/Rome:20260425T093000
DTSTAMP:20260425T185624
CREATED:20260421T144656Z
LAST-MODIFIED:20260421T144706Z
UID:10001176-1777109400-1777109400@www.ildiariodellavoro.it
SUMMARY:25 APRILE A POTENZA – I POPOLI SI PARLANO LE DEMORAZIE SI COSTRUISCONO
DESCRIPTION:25 APRILE A POTENZA – I POPOLI SI PARLANO LE DEMORAZIE SI COSTRUISCONO \n25 aprile 2026 – presso il Museo Archeologico provinciale – via Lazio – ore 9.30  Potenza \nIl segretario confederale della Cgil Giuseppe Gesmundo concluderà l’iniziativa in occasione dell’81° anniversario della Liberazione dell’Italia dal nazifascismo.
URL:https://www.ildiariodellavoro.it/evento/25-aprile-a-potenza-i-popoli-si-parlano-le-demorazie-si-costruiscono/
CATEGORIES:Iniziativa
ATTACH;FMTTYPE=image/webp:https://www.ildiariodellavoro.it/wp-content/uploads/2026/04/potenza-gesmundo-25-aprile-2026-jpg.webp
END:VEVENT
BEGIN:VEVENT
DTSTART;TZID=Europe/Rome:20260425T103000
DTEND;TZID=Europe/Rome:20260425T103000
DTSTAMP:20260425T185624
CREATED:20260417T145422Z
LAST-MODIFIED:20260417T145429Z
UID:10001169-1777113000-1777113000@www.ildiariodellavoro.it
SUMMARY:81° DELLA LIBERAZIONE DEL NAZIFASCISMO – MANIFESTAZIONE A ROMA
DESCRIPTION:81° DELLA LIBERAZIONE DEL NAZIFASCISMO – MANIFESTAZIONE A ROMA \n25 aprile 2026 – Ore 10\,30 – Roma \nIl segretario generale della Cgil Maurizio Landini parteciperà alla manifestazione per l’81° della Liberazione dal nazifascismo che si terrà a Roma sabato 25 aprile. Concentramento alle ore 10.30 in Piazza di Porta San Paolo\, arrivo del corteo a parco Schuster\, dove si terranno i comizi conclusivi.
URL:https://www.ildiariodellavoro.it/evento/81-della-liberazione-del-nazifascismo-manifestazione-a-roma/
CATEGORIES:Manifestazione
ATTACH;FMTTYPE=image/webp:https://www.ildiariodellavoro.it/wp-content/uploads/2026/04/25-aprile-2026-roma-lazio-cgil-jpg.webp
END:VEVENT
BEGIN:VEVENT
DTSTART;TZID=Europe/Rome:20260425T150000
DTEND;TZID=Europe/Rome:20260425T150000
DTSTAMP:20260425T185624
CREATED:20260421T071755Z
LAST-MODIFIED:20260421T071812Z
UID:10001174-1777129200-1777129200@www.ildiariodellavoro.it
SUMMARY:25 APRILE A PESCARA – LA COSTITUZIONE E IL DIRITTO AL FUTURO: PACE\, LAVORO E DIGNITA’ SOCIALE IN TEMPO DI GUERRA
DESCRIPTION:25 APRILE A PESCARA – LA COSTITUZIONE E IL DIRITTO AL FUTURO: PACE\, LAVORO E DIGNITA’ SOCIALE IN TEMPO DI GUERRA \n25 aprile 2026 – parco De Riseis – ore 15.00 – Pescara \nLa segretaria confederale della Cgil Daniela Barbaresi nell’ambito delle iniziative per la festa della Liberazione che si terranno a Pescara\, interverrà al dibattito “La Costituzione e il diritto al futuro: Pace\, lavoro e dignità sociale in tempo di guerra”. \n 
URL:https://www.ildiariodellavoro.it/evento/25-aprile-a-pescara-la-costituzione-e-il-diritto-al-futuro-pace-lavoro-e-dignita-sociale-in-tempo-di-guerra/
CATEGORIES:Iniziativa
ATTACH;FMTTYPE=image/webp:https://www.ildiariodellavoro.it/wp-content/uploads/2026/04/pescara-barbaresi-25-4-2026-jpg.webp
END:VEVENT
BEGIN:VEVENT
DTSTART;TZID=Europe/Rome:20260427T110000
DTEND;TZID=Europe/Rome:20260427T110000
DTSTAMP:20260425T185624
CREATED:20260423T095430Z
LAST-MODIFIED:20260423T095439Z
UID:10001180-1777287600-1777287600@www.ildiariodellavoro.it
SUMMARY:CASE DI COMUNITÀ\, A CHE PUNTO SIAMO
DESCRIPTION:CASE DI COMUNITÀ\, A CHE PUNTO SIAMO \n27 aprile 2026 – presso la sede della Cgil Veneto in Via Peschiera 7 – alle ore 11\,00 – Mestre \nLa conferenza stampa organizzata da Cgil Veneto e Spi Cgil Veneto per fare il punto sulle Case di Comunità nella nostra regione\, fornendo i dati aggiornati a febbraio (fonte Regis) a livello regionale e provinciale su lavori effettuati o da effettuare e sulle scadenze previste dal Pnrr e illustrando i servizi da attivare e il fabbisogno di personale sanitario. \n 
URL:https://www.ildiariodellavoro.it/evento/case-di-comunita-a-che-punto-siamo/
CATEGORIES:Conferenza Stampa
END:VEVENT
BEGIN:VEVENT
DTSTART;TZID=Europe/Rome:20260427T120000
DTEND;TZID=Europe/Rome:20260427T120000
DTSTAMP:20260425T185624
CREATED:20260424T132033Z
LAST-MODIFIED:20260424T132044Z
UID:10001186-1777291200-1777291200@www.ildiariodellavoro.it
SUMMARY:CONSEGNA PROPOSTE DI LEGGE SU SANITA’ E APPALTI IN CORTE DI CASSAZIONE – CONFERENZA STAMPA CGIL E ASSOCIAZIONI
DESCRIPTION:CONSEGNA PROPOSTE DI LEGGE SU SANITA’ E APPALTI IN CORTE DI CASSAZIONE – CONFERENZA STAMPA CGIL E ASSOCIAZIONI \n27 aprile 2026 – presso la saletta della Chiesa Valdese – Via Marianna Dionigi\, 59 – ore 12\,00 – Roma \nLunedì 27 aprile\, saranno depositate presso la Corte di Cassazione due proposte di legge di iniziativa popolare riguardanti i temi della sanità pubblica e degli appalti. Successivamente\, alle ore 12.00\, presso la saletta della Chiesa Valdese in via Marianna Dionigi n.59\, si terrà una conferenza stampa per illustrarne i contenuti e le finalità\, alla quale interverrà\, tra gli altri\, il segretario generale della Cgil\, Maurizio Landini. \n 
URL:https://www.ildiariodellavoro.it/evento/consegna-proposte-di-legge-su-sanita-e-appalti-in-corte-di-cassazione-conferenza-stampa-cgil-e-associazioni/
CATEGORIES:Conferenza Stampa
ATTACH;FMTTYPE=image/webp:https://www.ildiariodellavoro.it/wp-content/uploads/2026/04/copia-di-palazzo-di-giustizia-cassazione.webp
END:VEVENT
BEGIN:VEVENT
DTSTART;TZID=Europe/Rome:20260427T170000
DTEND;TZID=Europe/Rome:20260427T170000
DTSTAMP:20260425T185624
CREATED:20260424T173758Z
LAST-MODIFIED:20260424T173806Z
UID:10001187-1777309200-1777309200@www.ildiariodellavoro.it
SUMMARY:GIORNATE DELLA LIBERTA’ E DEL LAVORO A LIVORNO
DESCRIPTION:GIORNATE DELLA LIBERTA’ E DEL LAVORO A LIVORNO \n27 aprile 2026 – Ore 17\,00 – Livorno \nIl segretario generale della Cgil Maurizio Landini nell’ambito delle ‘Giornate della Libertà e del Lavoro’ promosse dalla Cgil Toscana e Cgil Livorno interverrà a due dibattiti: alle ore 17.00 ‘La Pace…prima di tutto’;
URL:https://www.ildiariodellavoro.it/evento/giornate-della-liberta-e-del-lavoro-a-livorno/
CATEGORIES:Dibattito
ATTACH;FMTTYPE=image/webp:https://www.ildiariodellavoro.it/wp-content/uploads/2026/04/copia-di-immagine-2026-04-22-104034-jpg-1.webp
END:VEVENT
BEGIN:VEVENT
DTSTART;TZID=Europe/Rome:20260427T173000
DTEND;TZID=Europe/Rome:20260427T173000
DTSTAMP:20260425T185624
CREATED:20260424T071425Z
LAST-MODIFIED:20260424T131700Z
UID:10001184-1777311000-1777311000@www.ildiariodellavoro.it
SUMMARY:AUDIZIONE COMMISSIONI CONGIUNTE BILANCIO SU DOCUMENTO FINANZA PUBBLICA
DESCRIPTION:AUDIZIONE COMMISSIONI CONGIUNTE BILANCIO SU DOCUMENTO FINANZA PUBBLICA \n27 aprile 2026 – presso la Sala del Mappamondo della Camera dei deputati – ore 17.40 – Roma \nLunedì 27 aprile si terrà l’audizione presso le Commissioni Bilancio congiunte della Camera dei deputati e del Senato\, relativa all’esame del Documento di finanza pubblica 2026 (Doc. CCXL\, n. 2). Per la Cgil sarà presente il segretario confederale Christian Ferrari \n 
URL:https://www.ildiariodellavoro.it/evento/audizione-commissioni-congiunte-bilancio-su-documento-finannza-pubblica/
CATEGORIES:Audizione
ATTACH;FMTTYPE=image/webp:https://www.ildiariodellavoro.it/wp-content/uploads/2026/04/commissioni-bilancio-camera-senato-jpg.webp
END:VEVENT
BEGIN:VEVENT
DTSTART;TZID=Europe/Rome:20260428T090000
DTEND;TZID=Europe/Rome:20260428T090000
DTSTAMP:20260425T185624
CREATED:20260424T174056Z
LAST-MODIFIED:20260424T174104Z
UID:10001188-1777366800-1777366800@www.ildiariodellavoro.it
SUMMARY:PISTOIA: L’INDUSTRIA TRA STORIA E PROSPETTIVE
DESCRIPTION:PISTOIA: L’INDUSTRIA TRA STORIA E PROSPETTIVE \n28 aprile 2026 – presso il Teatro Bolognini – Via Del Presto\, 5 – ore 9.15 – Pistoia \nIl segretario generale della Cgil Maurizio Landini concluderà l’iniziativa ‘Pistoia: l’industria tra storia e prospettive’ promossa dalla Cgil Toscana e dalla Cgil Prato Pistoia.
URL:https://www.ildiariodellavoro.it/evento/pistoia-lindustria-tra-storia-e-prospettive/
CATEGORIES:Iniziativa
ATTACH;FMTTYPE=image/webp:https://www.ildiariodellavoro.it/wp-content/uploads/2026/04/pistoia_industria_28_04_page-0001-jpg.webp
END:VEVENT
BEGIN:VEVENT
DTSTART;TZID=Europe/Rome:20260428T093000
DTEND;TZID=Europe/Rome:20260429T170000
DTSTAMP:20260425T185624
CREATED:20260417T145756Z
LAST-MODIFIED:20260420T132242Z
UID:10001170-1777368600-1777482000@www.ildiariodellavoro.it
SUMMARY:III ASSEMBLEA NAZIONALE CONTRO MAFIE E CORRUZIONE
DESCRIPTION:III ASSEMBLEA NAZIONALE CONTRO MAFIE E CORRUZIONE \n28 e 29 aprile 2025 – Ore 9\,45 – Palermo \nIl 28 e 29 aprile si terrà a Palermo la ‘III Assemblea Nazionale contro mafie e corruzione’. Saranno due giornate dense di confronto\, memoria\, approfondimento e impegno comune. \nMartedì 28 aprile alle ore 9.45 ci sarà la visita ai luoghi di Peppino e Felicia Impastato per richiamare il dovere della testimonianza e della responsabilità collettiva. Alle ore 14.00 si riuniranno i gruppi di lavoro per costruire confronto concreto\, proposte\, reti e azioni condivise. Alle 17.00 si terrà il dibattito ‘Contrastare e prevenire l’insidia fascio-mafiosa: le radici di ieri\, la consapevolezza dell’oggi’ che vedrà la partecipazione della segretaria confederale Cgil Lara Ghiglione. \nMercoledì 29 aprile si terrà la III Assemblea nazionale\, presso l’Aula Bunker Ucciardone in Via Remo Sandron n.1\, a partire dalle ore 8.30\, interverrà il segretario generale della Cgil Maurizio Landini. \n 
URL:https://www.ildiariodellavoro.it/evento/iii-assemblea-nazionale-contro-mafie-e-corruzione/
CATEGORIES:Assemblea
ATTACH;FMTTYPE=image/webp:https://www.ildiariodellavoro.it/wp-content/uploads/2026/04/immagine-2026-04-14-163206-jpg.webp
END:VEVENT
BEGIN:VEVENT
DTSTART;TZID=Europe/Rome:20260429T120000
DTEND;TZID=Europe/Rome:20260429T120000
DTSTAMP:20260425T185624
CREATED:20260424T174338Z
LAST-MODIFIED:20260424T174349Z
UID:10001189-1777464000-1777464000@www.ildiariodellavoro.it
SUMMARY:CONFERENZA STAMPA DI PRESENTAZIONE CONCERTO DEL PRIMO MAGGIO A ROMA
DESCRIPTION:CONFERENZA STAMPA DI PRESENTAZIONE CONCERTO DEL PRIMO MAGGIO A ROMA \n29 aprile 2026 – via Asiago\, 10 – sala A – ore 12.00 – Roma \nIl segretario generale della Cgil Maurizio Landini interverrà insieme ai segretari generali di Cisl e Uil\, Daniela Fumarola e Pierpaolo Bombardieri\, alla conferenza stampa per la presentazione del concerto del Primo Maggio 2026.
URL:https://www.ildiariodellavoro.it/evento/conferenza-stampa-di-presentazione-concerto-del-primo-maggio-a-roma/
CATEGORIES:Conferenza Stampa
ATTACH;FMTTYPE=image/webp:https://www.ildiariodellavoro.it/wp-content/uploads/2026/04/1maggio2026-png.webp
END:VEVENT
BEGIN:VEVENT
DTSTART;TZID=Europe/Rome:20260429T180000
DTEND;TZID=Europe/Rome:20260429T180000
DTSTAMP:20260425T185624
CREATED:20260422T124726Z
LAST-MODIFIED:20260422T124743Z
UID:10001179-1777485600-1777485600@www.ildiariodellavoro.it
SUMMARY:GIORNATE DELLA LIBERTA’ E DEL LAVORO – “LA SANITA’ … PUBBLICA E UNIVERSALE”
DESCRIPTION:GIORNATE DELLA LIBERTA’ E DEL LAVORO – “LA SANITA’ … PUBBLICA E UNIVERSALE” \n29 aprile 2026 – presso Fortezza Nuova – ore 18.00 – Livorno \nLa segretaria confederale della Cgil Daniela Barbaresi nell’ambito delle ‘Giornate della Libertà e del Lavoro’ promosse dalla Cgil Toscana e Cgil Livorno interverrà al dibattito ‘La sanità…pubblica e universale’.
URL:https://www.ildiariodellavoro.it/evento/giornate-della-liberta-e-del-lavoro-la-sanita-pubblica-e-universale/
CATEGORIES:Evento
ATTACH;FMTTYPE=image/webp:https://www.ildiariodellavoro.it/wp-content/uploads/2026/04/copia-di-immagine-2026-04-22-104034-jpg.webp
END:VEVENT
BEGIN:VEVENT
DTSTART;TZID=Europe/Rome:20260430T080000
DTEND;TZID=Europe/Rome:20260430T170000
DTSTAMP:20260425T185624
CREATED:20260423T113232Z
LAST-MODIFIED:20260423T113241Z
UID:10001183-1777536000-1777568400@www.ildiariodellavoro.it
SUMMARY:PRESENTAZIONE DEL LIBRO “PREPOTENTI”
DESCRIPTION:PRESENTAZIONE DEL LIBRO “PREPOTENTI” \n30 aprile 2026 – presso il Parco Fluviale Davide De Carolis – Teramo \nLa segretaria confederale della Cgil Lara Ghiglione presenterà il libro ‘Prepotenti’\, di cui è autrice\, nell’ambito della 17^ edizione di ‘Aspettando il Primo Maggio’.
URL:https://www.ildiariodellavoro.it/evento/presentazione-del-libro-prepotenti-2/
CATEGORIES:Presentazione Libro
ATTACH;FMTTYPE=image/webp:https://www.ildiariodellavoro.it/wp-content/uploads/2026/04/teramo-ghiglione-30-aprile-2026-jpg.webp
END:VEVENT
BEGIN:VEVENT
DTSTART;TZID=Europe/Rome:20260430T173000
DTEND;TZID=Europe/Rome:20260430T173000
DTSTAMP:20260425T185624
CREATED:20260422T085204Z
LAST-MODIFIED:20260424T071204Z
UID:10001178-1777570200-1777570200@www.ildiariodellavoro.it
SUMMARY:GIORNATE DELLA LIBERTA’ E DEL LAVORO – “LA COSTITUZIONE ITALIANA NELLA CRISI DELLE DEMOCRAZIE”
DESCRIPTION:GIORNATE DELLA LIBERTA’ E DEL LAVORO – “LA COSTITUZIONE ITALIANA NELLA CRISI DELLE DEMOCRAZIE” \n30 aprile 2026 – presso Fortezza Nuova – ore 17.30 – Livorno \nIl segretario confederale della Cgil Christian Ferrari nell’ambito delle ‘Giornate della Libertà e del Lavoro’ promosse dalla Cgil Toscana e Cgil Livorno interverrà al dibattito ‘La Costituzione italiana nella crisi delle democrazie’. \n  \n 
URL:https://www.ildiariodellavoro.it/evento/giornate-della-liberta-e-del-lavoro-la-costituzione-italiana-nella-crisi-delle-democrazie/
CATEGORIES:Giornata di studio
ATTACH;FMTTYPE=image/webp:https://www.ildiariodellavoro.it/wp-content/uploads/2026/04/immagine-2026-04-22-104034-jpg.webp
END:VEVENT
BEGIN:VEVENT
DTSTART;TZID=Europe/Rome:20260501T100000
DTEND;TZID=Europe/Rome:20260501T100000
DTSTAMP:20260425T185624
CREATED:20260420T133729Z
LAST-MODIFIED:20260420T133738Z
UID:10001173-1777629600-1777629600@www.ildiariodellavoro.it
SUMMARY:“LAVORO DIGNITOSO”\, MANIFESTAZIONE CGIL\, CISL E UIL A MARGHERA
DESCRIPTION:“LAVORO DIGNITOSO”\, MANIFESTAZIONE CGIL\, CISL E UIL A MARGHERA \n1 maggio 2026 – Piazza del Mercato – Ore 10\,00 – Marghera \nIl segretario generale della Cgil Maurizio Landini\, e i segretari generali di Cisl e Uil\, Daniela Fumarola e PierPaolo Bombardieri interverranno alla manifestazione del Primo maggio promossa da Cgil\, Cisl e Uil a Marghera. \n 
URL:https://www.ildiariodellavoro.it/evento/lavoro-dignitoso-manifestazione-cgil-cisl-e-uil-a-marghera/
CATEGORIES:Manifestazione
ATTACH;FMTTYPE=image/webp:https://www.ildiariodellavoro.it/wp-content/uploads/2026/04/copia-di-cardfb-ig-primo-maggio-2026-marghera-jpg.webp
END:VEVENT
BEGIN:VEVENT
DTSTART;TZID=Europe/Rome:20260501T143000
DTEND;TZID=Europe/Rome:20260501T143000
DTSTAMP:20260425T185624
CREATED:20260423T112736Z
LAST-MODIFIED:20260423T112749Z
UID:10001182-1777645800-1777645800@www.ildiariodellavoro.it
SUMMARY:LAVORO\, GENERE E PROSPETTIVE
DESCRIPTION:LAVORO\, GENERE E PROSPETTIVE \n1 maggio 2026 – presso il Parco del Pionta – zona Cas – ore 14.30 – Arezzo \nLa segretaria confederale della Cgil Lara Ghiglione interverrà al talk ‘Lavoro\, genere e prospettive’ organizzato nell’ambito delle iniziative per il 1° maggio aretino. \n 
URL:https://www.ildiariodellavoro.it/evento/lavoro-genere-e-prospettive/
CATEGORIES:Talk
ATTACH;FMTTYPE=image/webp:https://www.ildiariodellavoro.it/wp-content/uploads/2026/04/25apr-1mag-jpg.webp
END:VEVENT
BEGIN:VEVENT
DTSTART;TZID=Europe/Rome:20260505T100000
DTEND;TZID=Europe/Rome:20260505T100000
DTSTAMP:20260425T185624
CREATED:20260421T144954Z
LAST-MODIFIED:20260421T145004Z
UID:10001177-1777975200-1777975200@www.ildiariodellavoro.it
SUMMARY:SERVIZI ALLA PRIMA INFANZIA: DALLA PARTE DELLE BAMBINE E DEI BAMBINI
DESCRIPTION:SERVIZI ALLA PRIMA INFANZIA: DALLA PARTE DELLE BAMBINE E DEI BAMBINI \n5 maggio 2026 – presso il Centro Internazionale Loris Malaguzzi -Viale B. Ramazzini\, 72/A – ore 10.00 – Reggio Emilia \nLa segretaria confederale della Cgil Daniela Barbaresi interverrà alla tavola rotonda nell’ambito dell’iniziativa promossa dalla Fp Cgil ‘Servizi alla prima infanzia: dalla parte delle bambine e dei bambini’.
URL:https://www.ildiariodellavoro.it/evento/servizi-alla-prima-infanzia-dalla-parte-delle-bambine-e-dei-bambini/
CATEGORIES:Tavola Rotonda
ATTACH;FMTTYPE=image/webp:https://www.ildiariodellavoro.it/wp-content/uploads/2026/04/doc-20260417-wa0015_page-0001-jpg.webp
END:VEVENT
BEGIN:VEVENT
DTSTART;TZID=Europe/Rome:20260505T100000
DTEND;TZID=Europe/Rome:20260505T130000
DTSTAMP:20260425T185624
CREATED:20260424T090257Z
LAST-MODIFIED:20260424T090309Z
UID:10001185-1777975200-1777986000@www.ildiariodellavoro.it
SUMMARY:CAREGIVER FAMILIARI TRA CARICHI DI CURA\, SQUILIBRI DI GENERE E RICERCA DI TUTELE
DESCRIPTION:CAREGIVER FAMILIARI TRA CARICHI DI CURA\, SQUILIBRI DI GENERE E RICERCA DI TUTELE \n5 maggio 2026 – Palazzo Steri – Sala Magna Università degli Studi di Palermo – dalle ore 10\,00 alle ore 13\,00 – Palermo \n 
URL:https://www.ildiariodellavoro.it/evento/caregiver-familiari-tra-carichi-di-cura-squilibri-di-genere-e-ricerca-di-tutele/
CATEGORIES:Dibattito
ATTACH;FMTTYPE=image/png:https://www.ildiariodellavoro.it/wp-content/uploads/2026/04/programma-5-maggio-1.png
END:VEVENT
BEGIN:VEVENT
DTSTART;TZID=Europe/Rome:20260506T093000
DTEND;TZID=Europe/Rome:20260506T093000
DTSTAMP:20260425T185624
CREATED:20260423T100037Z
LAST-MODIFIED:20260423T100045Z
UID:10001181-1778059800-1778059800@www.ildiariodellavoro.it
SUMMARY:SANITA’ PUBBLICA BENE COMUNE. DALL’AGENDA SANITA’ EMILIA ROMAGNA AL RAFFORZAMENTO DEL SERVIZIO SANITARIO NAZIONALE
DESCRIPTION:SANITA’ PUBBLICA BENE COMUNE. DALL’AGENDA SANITA’ EMILIA ROMAGNA AL RAFFORZAMENTO DEL SERVIZIO SANITARIO NAZIONALE \n6 maggio 2026 – presso la Casa di quartiere Katia Bertasi – Via Fioravanti\, 18/3 – ore 9.30 – Bologna \nLa segretaria confederale della Cgil Daniela Barbaresi concluderà l’iniziativa promossa dalla Cgil Emilia Romagna ‘Sanità pubblica bene comune. Dall’Agenda Sanità Emilia Romagna al rafforzamento del Servizio Sanitario Nazionale’. \n 
URL:https://www.ildiariodellavoro.it/evento/sanita-pubblica-bene-comune-dallagenda-sanita-emilia-romagna-al-rafforzamento-del-servizio-sanitario-nazionale/
CATEGORIES:Iniziativa
ATTACH;FMTTYPE=image/webp:https://www.ildiariodellavoro.it/wp-content/uploads/2026/04/doc-20260422-wa0001_260422_105653_page-0001-jpg.webp
END:VEVENT
BEGIN:VEVENT
DTSTART;TZID=Europe/Rome:20260507T093000
DTEND;TZID=Europe/Rome:20260507T093000
DTSTAMP:20260425T185624
CREATED:20260424T174647Z
LAST-MODIFIED:20260424T174656Z
UID:10001190-1778146200-1778146200@www.ildiariodellavoro.it
SUMMARY:PROPOSTA DI LEGGE POPOLARE PER RAFFORZARE LA SANITA’ PUBBLICA. VERSO IL NUOVO PIANO SANITARIO REGIONALE
DESCRIPTION:PROPOSTA DI LEGGE POPOLARE PER RAFFORZARE LA SANITA’ PUBBLICA. VERSO IL NUOVO PIANO SANITARIO REGIONALE \n7 maggio 2026 – presso il museo archeologico provinciale – ore 9.30 – Potenza \nLa segretaria confederale della Cgil Daniela Barbaresi interverrà al dibattito ‘Proposta di legge popolare per rafforzare la sanità pubblica. Verso il nuovo piano sanitario regionale’ promosso da Cgil\, Spi e Fp Cgil Basilicata. \n 
URL:https://www.ildiariodellavoro.it/evento/proposta-di-legge-popolare-per-rafforzare-la-sanita-pubblica-verso-il-nuovo-piano-sanitario-regionale/
CATEGORIES:Dibattito
ATTACH;FMTTYPE=image/webp:https://www.ildiariodellavoro.it/wp-content/uploads/2026/04/potenza-barbaresi-jpg.webp
END:VEVENT
BEGIN:VEVENT
DTSTART;TZID=Europe/Rome:20260521T080000
DTEND;TZID=Europe/Rome:20260522T170000
DTSTAMP:20260425T185624
CREATED:20260128T110106Z
LAST-MODIFIED:20260128T110258Z
UID:10001047-1779350400-1779469200@www.ildiariodellavoro.it
SUMMARY:“LE RELAZIONI INDUSTRIALI NELLE CATENE DEL VALORE: RAPPRESENTANZA\, CONTRATTAZIONE\, REGOLAZIONE”
DESCRIPTION:CONFERENZA AISRI EARLY CAREER 2026 INTITOLATA\n“LE RELAZIONI INDUSTRIALI NELLE CATENE DEL VALORE: RAPPRESENTANZA\, CONTRATTAZIONE\, REGOLAZIONE” \n21-22 maggio 2026 – presso la Scuola Normale Superiore – Firenze \nLa riorganizzazione dei sistemi produttivi attraverso catene del valore globali e domestiche rappresenta una delle trasformazioni più rilevanti del capitalismo contemporaneo. La crescente frammentazione dei processi produttivi\, il diffuso ricorso ad appalti\, subappalti e pratiche di outsourcing\, internazionali e domestiche\, hanno impattato profondamente sui sistemi di relazioni industriali\, ridefinendo i rapporti di potere tra imprese\, lavoratori e istituzioni e influenzando in maniera significativa le condizioni di lavoro. \nLa disarticolazione organizzativa e spaziale dei processi produttivi e dei servizi sia privati che pubblici solleva interrogativi cruciali in merito alla rappresentanza del lavoro\, alla tenuta della regolazione collettiva\, alla forme di governance necessarie a garantire la tutela del lavoro lungo le filiere. Come evidenziato da un’ampia letteratura\, tali dinamiche sono strettamente connesse all’indebolimento delle tradizionali architetture delle relazioni industriali e delle regolazione del lavoro\, ma anche allo sviluppo di nuove forme di regolazione e governance multilivello. \nL’Associazione Italiana di Studi sulle Relazioni Industriali (AISRI) invita studiosi e studiose di discipline giuridiche\, sociologiche\, economiche\, politologiche\, storiche e filosofiche agli inizi dei loro percorsi di ricerca e/o professionali\, a misurarsi con queste questioni e a discuterne nell’ambito del convegno AISRI early career che si terrà presso la Scuola Normale Superiore i giorni 21 e 22 maggio 2026. \nI paper proposti potranno essere teorici e/o empirici e ruotare attorno ai seguenti nuclei problematici: \n\nCatene del valore globali e domestiche e trasformazioni delle relazioni industriali\nAppalti\, subappalti e outsourcing: effetti su salari e condizioni di lavoro\nContrattazione collettiva e regolazione nelle catene del valore: verso una nuova concezione di impresa?\nStrategie sindacali\, rappresentanza e azione collettiva in contesti produttivi frammentati\nGovernance pubblica e privata delle catene del valore\nFrammentazione organizzativa nei servizi e problematiche degli appalti pubblici\nCatene del valore\, disuguaglianze e segmentazione del lavoro\n\nI contributi su temi affini\, anche se non esplicitamente ricompresi nell’elenco\, saranno ugualmente presi in considerazione ai fini dell’inclusione nel programma. \nLa partecipazione è aperta agli studiosi e alle studiose “non strutturati/e” in università (ovvero iscritti/e ad un corso di dottorato o che ne posseggano già il titolo\, titolari di assegni e contratti di ricerca\, borse di ricerca\, incarichi di ricerca o post-doc\, contratti di ricerca a tempo determinato). \nGli studiosi e le studiose che intendono proporre un contributo per la conferenza dovranno inviare un titolo ed un abstract di max 800 parole (inclusive di una bibliografia essenziale) entro il 1° marzo 2026 al seguente indirizzo e-mail: info@aisri.it. \nIl Comitato scientifico informerà gli autori e le autrici sull’esito della selezione dei contributi entro il 15 marzo 2026. Gli autori e le autrici dovranno iscriversi alla conferenza e inviare il contributo completo entro il 10 maggio 2026. \nLa conferenza si terrà a Firenze il 21 e 22 maggio 2026. AISRI garantirà un contributo per le spese di alloggio e viaggio fino ad un massimo di 150€ per ciascun/a partecipante. \nIl comitato organizzativo: Marco Biasi\, Lisa Dorigatti\, Maurizio Falsone\, Giulia Frosecchi\, Vincenzo Maccarrone\, Guglielmo Meardi\, Anna Mori\, Dario Raspanti\, Giuseppe Antonio Recchia\, Francesco Seghezzi. \n 
URL:https://www.ildiariodellavoro.it/evento/le-relazioni-industriali-nelle-catene-del-valore-rappresentanza-contrattazione-regolazione/
CATEGORIES:Conferenza
END:VEVENT
BEGIN:VEVENT
DTSTART;TZID=Europe/Rome:20260526T093000
DTEND;TZID=Europe/Rome:20260526T093000
DTSTAMP:20260425T185624
CREATED:20260420T093251Z
LAST-MODIFIED:20260420T093258Z
UID:10001172-1779787800-1779787800@www.ildiariodellavoro.it
SUMMARY:L’EVOLUZIONE DELLE INFRASTRUTTURE SOSTENIBILI
DESCRIPTION:L’EVOLUZIONE DELLE INFRASTRUTTURE SOSTENIBILI\n\nProgettare\, misurare e certificare: esperienze a confronto \n26 maggio 2026 – Centro Congressi Fondazione Cariplo – Via Romagnosi 8\, – ore 9\,30 – Milano \n 
URL:https://www.ildiariodellavoro.it/evento/levoluzione-delle-infrastrutture-sostenibili/
CATEGORIES:Conferenza
ATTACH;FMTTYPE=image/jpeg:https://www.ildiariodellavoro.it/wp-content/uploads/2026/04/Programma-Envision-Conference-2026_page-0001-scaled.jpg
END:VEVENT
END:VCALENDAR